BEGIN:VCALENDAR
VERSION:2.0
PRODID:-//ChamberMaster//Event Calendar 2.0//EN
METHOD:PUBLISH
X-PUBLISHED-TTL:P3D
REFRESH-INTERVAL:P3D
CALSCALE:GREGORIAN
BEGIN:VEVENT
DTSTART;VALUE=DATE:20110516
DTEND;VALUE=DATE:20110517
TRANSP:TRANSPARENT
X-MICROSOFT-CDO-ALLDAYEVENT:TRUE
SUMMARY:Alabaster-Pelham Rotary Club 2011 Golf Tournament
DESCRIPTION:Alabaster-Pelham Rotary Club 2011 Golf Tournament
X-ALT-DESC;FMTTYPE=text/html:Alabaster-Pelham Rotary Club 2011 Golf Tournament
LOCATION:Timberline Golf Club
UID:e.145.3358
SEQUENCE:3
DTSTAMP:20260426T022750Z
URL:https://business.shelbychamber.org/events/details/alabaster-pelham-rotary-club-2011-golf-tournament-05-16-2011-3358
END:VEVENT

END:VCALENDAR
