BEGIN:VCALENDAR
VERSION:2.0
PRODID:-//ChamberMaster//Event Calendar 2.0//EN
METHOD:PUBLISH
X-PUBLISHED-TTL:P3D
REFRESH-INTERVAL:P3D
CALSCALE:GREGORIAN
BEGIN:VEVENT
DTSTART:20141101T150000Z
DTEND:20141102T010000Z
X-MICROSOFT-CDO-ALLDAYEVENT:FALSE
SUMMARY:Alabaster-Pelham Rotary Club A Southern Christmas Bazaar
DESCRIPTION:The Alabaster Pelham Rotary Club presents A Southern Christmas Bazaar\n\nMore than 50 merchants from Alabama and surrounding states will participate in this premier shopping event. Shoppers will enjoy a wide variety of unique Christmas themed items. Merchants are offering clothing\, food\, collectibles\, decorations and much more. Prepare to be amazed as you browse through Candy Cane Lane\, Mistletoe Drive or Jingle Bell Parkway.\n\n\n\nA Southern Christmas Bazaar is presented solely for the purpose of raising funds to benefit the projects of the Alabaster-Pelham Rotary Club. Rotarian volunteers have put together what is destined to be THE event in Shelby County for fun\, shopping\, decorating and celebrating.\n\n\n\nA Southern Christmas Bazaar will be held at the Pelham Civic Complex and Ice Arena\, Saturday\, November 1\, 2014 10:00am until 8:00pm and on Sunday\, November 2\, 2014 12:00 noon until 5:00pm.\n\n\n\nMake your plans to attend now. Refreshments and concessions will be available. Our plans include a feature booth with Santa Claus\, so bring your children to have their pictures made with Santa.\n\n\n\nAlabaster-Pelham Rotary Club A Southern Christmas Bazaar:  Saturday\, November 1\, 2014 10:00am   8:00pm and Sunday\, November 2\, 2014  12:00noon   5:00pm
X-ALT-DESC;FMTTYPE=text/html:The Alabaster Pelham Rotary Club presents A Southern Christmas Bazaar<br />\nMore than 50 merchants from Alabama and surrounding states will participate in this premier shopping event. Shoppers will enjoy a wide variety of unique Christmas themed items. Merchants are offering clothing\, food\, collectibles\, decorations and much more. Prepare to be amazed as you browse through Candy Cane Lane\, Mistletoe Drive or Jingle Bell Parkway.<br />\n<br />\nA Southern Christmas Bazaar is presented solely for the purpose of raising funds to benefit the projects of the Alabaster-Pelham Rotary Club. Rotarian volunteers have put together what is destined to be THE event in Shelby County for fun\, shopping\, decorating and celebrating.<br />\n<br />\nA Southern Christmas Bazaar will be held at the Pelham Civic Complex and Ice Arena\, Saturday\, November 1\, 2014 10:00am until 8:00pm and on Sunday\, November 2\, 2014 12:00 noon until 5:00pm.<br />\n<br />\nMake your plans to attend now. Refreshments and concessions will be available. Our plans include a feature booth with Santa Claus\, so bring your children to have their pictures made with Santa.<br />\n<br />\nAlabaster-Pelham Rotary Club A Southern Christmas Bazaar:&nbsp\; Saturday\, November 1\, 2014 10:00am &ndash\; 8:00pm and Sunday\, November 2\, 2014&nbsp\; 12:00noon &ndash\; 5:00pm
LOCATION:Pelham Civic Complex and Ice Arena
UID:e.145.5365
SEQUENCE:3
DTSTAMP:20260423T075539Z
URL:https://business.shelbychamber.org/events/details/alabaster-pelham-rotary-club-a-southern-christmas-bazaar-11-01-2014-5365
END:VEVENT

END:VCALENDAR
