BEGIN:VCALENDAR
VERSION:2.0
PRODID:-//ChamberMaster//Event Calendar 2.0//EN
METHOD:PUBLISH
X-PUBLISHED-TTL:P3D
REFRESH-INTERVAL:P3D
CALSCALE:GREGORIAN
BEGIN:VEVENT
DTSTART:20110907T123000Z
DTEND:20110907T140000Z
X-MICROSOFT-CDO-ALLDAYEVENT:FALSE
SUMMARY:All About Referral Chelsea
DESCRIPTION:All About Referrals Chelsea is a new category specific referral networking opportunity in Chelsea that meets weekly. The group meets from 7:30AM-9:00AM at the Cousins Insurance Agency in Benson Plaza in Chelsea each Wednesday.  You are invited to visit to see if AAR is for you.    All About Referrals was created by business owners for business owners and business associates to help make strong relationships with like-minded professionals and provide a means of continuous referrals.  If you are looking for a way to grow your business while helping others\, All About Referrals is a great group to join.
X-ALT-DESC;FMTTYPE=text/html:All About Referrals Chelsea is a new category specific referral networking opportunity in Chelsea that meets weekly. The group meets from 7:30AM-9:00AM at the Cousins Insurance Agency in Benson Plaza in Chelsea each Wednesday.&nbsp\; You are invited to visit to see if AAR is for you. &nbsp\;&nbsp\; All About Referrals was created by business owners for business owners and business associates to help make strong relationships with like-minded professionals and provide a means of continuous referrals.&nbsp\; If you are looking for a way to grow your business while helping others\, All About Referrals is a great group to join.
LOCATION:Cousins Insurance Agency In Benson Plaza in Chelsea AL
UID:e.145.3496
SEQUENCE:3
DTSTAMP:20260425T200702Z
URL:https://business.shelbychamber.org/events/details/all-about-referral-chelsea-09-07-2011-3496
END:VEVENT

END:VCALENDAR
