BEGIN:VCALENDAR
VERSION:2.0
PRODID:-//ChamberMaster//Event Calendar 2.0//EN
METHOD:PUBLISH
X-PUBLISHED-TTL:P3D
REFRESH-INTERVAL:P3D
CALSCALE:GREGORIAN
BEGIN:VEVENT
DTSTART;VALUE=DATE:20160716
DTEND;VALUE=DATE:20160717
TRANSP:TRANSPARENT
X-MICROSOFT-CDO-ALLDAYEVENT:TRUE
SUMMARY:All Ages Lego Competition
DESCRIPTION:Use your own bricks to make an original (not from a kit) creation to be judged by our all-star judges. Registration required. View a rules and information sheet on our website.
X-ALT-DESC;FMTTYPE=text/html:<span style="font-family:calibri light\,sans-serif"><span style="font-size:12.0pt">Use your own bricks to make an <u>original</u> (not from a kit) creation to be judged by our all-star judges. Registration required. View a rules and information sheet on our website.&nbsp\;</span></span>
LOCATION:North Shelby Library 5521 Cahaba Valley Road Birmingham\, AL 35242`
UID:e.145.9598
SEQUENCE:3
DTSTAMP:20260422T011835Z
URL:https://business.shelbychamber.org/events/details/all-ages-lego-competition-07-16-2016-9598
END:VEVENT

END:VCALENDAR
