BEGIN:VCALENDAR
VERSION:2.0
PRODID:-//ChamberMaster//Event Calendar 2.0//EN
METHOD:PUBLISH
X-PUBLISHED-TTL:P3D
REFRESH-INTERVAL:P3D
CALSCALE:GREGORIAN
BEGIN:VEVENT
DTSTART:20110827T120000Z
DTEND:20110827T150000Z
X-MICROSOFT-CDO-ALLDAYEVENT:FALSE
SUMMARY:ALL YOU CAN EAT PANCAKE BREAKFAST - Benefiting King's Home
DESCRIPTION:ALL YOU CAN EAT PANCAKE BREAKFAST - Benefiting King's Home\n\n\n\nAugust 27\, 2011\n\n\n\n7:00 AM - 10:00 AM\n\n\n\nParking Lot - Winn Dixie\, Chelsea\n\n\n\n$8 Per Person\n\n\n\nCLICK HERE FOR A PRINTABLE PDF FLIER.\n\n \n\nCome out and enjoy live music!  You will also have the opportunity to visit with champion professional bass angler and King's Home spokesperson\, Randy Howell!\n\n \n\nA special thank you to our sponsors:\n\n\n\nSpecial Occasions\n\n\n\nGreater Birmingham Apartment Association\n\n\n\nChelsea Fire Department\n\n\n\nPost Net - Chelsea\n\n\n\nWinn Dixie - Chelsea\n\n\n\nChelsea Community Church\n\n\n\nCub Scout Pack 353\n\n\n\nCooking - With - Purpose / Jeffrey Foster\n\n\n\nMembers of the Young Leaders' Council - King's Home\n\n\n\nChecks\, Credit Cards and Cash Accepted At Event\n\n\n\nAbout King's Home\n\n\n\nKing's Home seeks to serve and glorify God by providing Christ-centered homes for youth\, women and children in our community seeking refuge and hope from abuse\, neglect\, domestic violence\, homelessness and other difficult circumstances.\n\n\n\nLearn more at  www.kingshome.org.
X-ALT-DESC;FMTTYPE=text/html:<strong>ALL YOU CAN EAT PANCAKE BREAKFAST - Benefiting King&#39\;s Home</strong><br />\n<br />\nAugust 27\, 2011<br />\n<br />\n7:00 AM - 10:00 AM<br />\n<br />\nParking Lot - Winn Dixie\, Chelsea<br />\n<br />\n$8 Per Person<br />\n<br />\n<a href="http://cloud.chambermaster.com/userfiles/UserFiles/chambers/145/File/Non%20Profit%20Event%20Fliers/PancakeBreakfast.pdf">CLICK HERE FOR A PRINTABLE PDF FLIER.</a><br />\n&nbsp\;<br />\nCome out and enjoy live music!&nbsp\; You will also have the opportunity to visit with champion professional bass angler and King&#39\;s Home spokesperson\, Randy Howell!<br />\n&nbsp\;<br />\nA special thank you to our sponsors:<br />\n<br />\nSpecial Occasions<br />\n<br />\nGreater Birmingham Apartment Association<br />\n<br />\nChelsea Fire Department<br />\n<br />\nPost Net - Chelsea<br />\n<br />\nWinn Dixie - Chelsea<br />\n<br />\nChelsea Community Church<br />\n<br />\nCub Scout Pack 353<br />\n<br />\nCooking - With - Purpose / Jeffrey Foster<br />\n<br />\nMembers of the Young Leaders&#39\; Council - King&#39\;s Home<br />\n<br />\nChecks\, Credit Cards and Cash Accepted At Event<br />\n<br />\nAbout King&#39\;s Home<br />\n<br />\nKing&#39\;s Home seeks to serve and glorify God by providing Christ-centered homes for youth\, women and children in our community seeking refuge and hope from abuse\, neglect\, domestic violence\, homelessness and other difficult circumstances.<br />\n<br />\nLearn more at&nbsp\; <a href="http://www.kingshome.org">www.kingshome.org</a>.
LOCATION:Parking Lot - Winn Dixie\, Chelsea
UID:e.145.3491
SEQUENCE:3
DTSTAMP:20260425T232401Z
URL:https://business.shelbychamber.org/events/details/all-you-can-eat-pancake-breakfast-benefiting-king-s-home-08-27-2011-3491
END:VEVENT

END:VCALENDAR
