BEGIN:VCALENDAR
VERSION:2.0
PRODID:-//ChamberMaster//Event Calendar 2.0//EN
METHOD:PUBLISH
X-PUBLISHED-TTL:P3D
REFRESH-INTERVAL:P3D
CALSCALE:GREGORIAN
BEGIN:VEVENT
DTSTART:20120313T140000Z
DTEND:20120313T200000Z
X-MICROSOFT-CDO-ALLDAYEVENT:FALSE
SUMMARY:Allcomm Wireless 2nd Annual Motorola EXPO
DESCRIPTION:Partnering Together to Provide Innovative Solutions For Your Communications Needs!\n\n\n\nAlabama's Leading Motorola Two-Way Radio Dealer and Wireless Systems Solutions Provider would like to invite you to join us as we discuss and demonstrate the newest innovations in communications\n\ntechnology. Please join us for an in depth product show highlighting solutions to the FCC's\n\nNarrowbanding Mandate\, Commercial and Public Safety (P25) Radio Systems\, Leasing Options and\n\nmuch more. We will also be unveiling our new wide area dispatch system\, TRBOCOMM\, which will\n\nprovide service throughout Central Alabama. Our event will be held at Birmingham's McWane\n\nScience Center on Tuesday\, March 13\, 2012.  To register or for more information\, please contact\n\nCrystal Nicholson at crystal@allcomm.com. We look forward to seeing you there!
X-ALT-DESC;FMTTYPE=text/html:Partnering Together to Provide Innovative Solutions For Your Communications Needs!<br />\n<br />\nAlabama&rsquo\;s Leading Motorola Two-Way Radio Dealer and Wireless Systems Solutions Provider would like to invite you to join us as we discuss and demonstrate the newest innovations in communications<br />\ntechnology. Please join us for an in depth product show highlighting solutions to the FCC&rsquo\;s<br />\nNarrowbanding Mandate\, Commercial and Public Safety (P25) Radio Systems\, Leasing Options and<br />\nmuch more. We will also be unveiling our new wide area dispatch system\, TRBOCOMM\, which will<br />\nprovide service throughout Central Alabama. Our event will be held at Birmingham&rsquo\;s McWane<br />\nScience Center on Tuesday\, March 13\, 2012.&nbsp\; To register or for more information\, please contact<br />\nCrystal Nicholson at crystal@allcomm.com. We look forward to seeing you there!<br />\n<br />\n
LOCATION:McWane Science Center 200 19th Street North
UID:e.145.3940
SEQUENCE:3
DTSTAMP:20260425T102410Z
URL:https://business.shelbychamber.org/events/details/allcomm-wireless-2nd-annual-motorola-expo-03-13-2012-3940
END:VEVENT

END:VCALENDAR
