BEGIN:VCALENDAR
VERSION:2.0
PRODID:-//ChamberMaster//Event Calendar 2.0//EN
METHOD:PUBLISH
X-PUBLISHED-TTL:P3D
REFRESH-INTERVAL:P3D
CALSCALE:GREGORIAN
BEGIN:VEVENT
DTSTART;VALUE=DATE:20130826
DTEND;VALUE=DATE:20130827
TRANSP:TRANSPARENT
X-MICROSOFT-CDO-ALLDAYEVENT:TRUE
SUMMARY:Allen Bradley Control Logix PLC Training
DESCRIPTION:This is a 40-hour introduction to the Control Logix controller using the Allen Bradley RSLogix 5000 and RSLinx. This class will include hands-on general practices for maintaining and troubleshooting a PLC system.\n\n	Instructor: David Kendrick of Alabama Technology Network\, dkendrick@atn.org (205) 856-8002\n\n	Small class size--limited seating. For more information and to register\, please go online to www.atn.org
X-ALT-DESC;FMTTYPE=text/html:<p>\n	This is a 40-hour introduction to the Control Logix controller using the Allen Bradley RSLogix 5000 and RSLinx. This class will include hands-on general practices for maintaining and troubleshooting a PLC system.</p>\n<p>\n	Instructor: David Kendrick of Alabama Technology Network\, dkendrick@atn.org (205) 856-8002</p>\n<p>\n	Small class size--limited seating. For more information and to register\, please go online to www.atn.org&nbsp\;</p>\n
LOCATION:Jefferson State Community College-Chilton/Clanton Center CPAC Bldg\, Rm EDC2 1850 Lay Dam Road Clanton\, AL 35045
UID:e.145.4710
SEQUENCE:3
DTSTAMP:20260424T065300Z
URL:https://business.shelbychamber.org/events/details/allen-bradley-control-logix-plc-training-08-26-2013-4710
END:VEVENT

END:VCALENDAR
