BEGIN:VCALENDAR
VERSION:2.0
PRODID:-//ChamberMaster//Event Calendar 2.0//EN
METHOD:PUBLISH
X-PUBLISHED-TTL:P3D
REFRESH-INTERVAL:P3D
CALSCALE:GREGORIAN
BEGIN:VEVENT
DTSTART:20170321T223000Z
DTEND:20170322T003000Z
X-MICROSOFT-CDO-ALLDAYEVENT:FALSE
SUMMARY:ALWIB Let's Get Connected The Wine Loft
DESCRIPTION:Join Alabama Women In Business for Let's Get Connected - Networking Event at The Wine Loft
X-ALT-DESC;FMTTYPE=text/html:Join Alabama Women In Business for Let&#39\;s Get Connected - Networking Event at The Wine Loft
LOCATION:The Wine Loft\, Birmingham
UID:e.145.10518
SEQUENCE:3
DTSTAMP:20260421T101925Z
URL:https://business.shelbychamber.org/events/details/alwib-let-s-get-connected-the-wine-loft-10518
END:VEVENT

END:VCALENDAR
