BEGIN:VCALENDAR
VERSION:2.0
PRODID:-//ChamberMaster//Event Calendar 2.0//EN
METHOD:PUBLISH
X-PUBLISHED-TTL:P3D
REFRESH-INTERVAL:P3D
CALSCALE:GREGORIAN
BEGIN:VEVENT
DTSTART:20150225T170000Z
DTEND:20150226T010000Z
X-MICROSOFT-CDO-ALLDAYEVENT:FALSE
SUMMARY:America's Thrift Store - Alabaster Job Fair: February 25
DESCRIPTION:Job Fair at America's Thrift Store Alabaster February 25\n\n\n\nAmerica's Thrift Stores is pleased to announce our Alabaster Job Fair on Wednesday\, February 25\, 2015.  Whether you are looking to start a new career\, second career or just work part-time\, we have a wide array of sales\, technical\, production and management-level jobs available at America's Thrift Stores. \n\n\n\nWork in Alabaster\n\nOur Alabaster flagship store serves nearly 1\,000 customers each day with our team of more than 100 employees. It is a great place for someone to work who is looking for variety in their daily job\, a challenging environment and an employer with a purpose. With a mission to contribute $100 million to Christian ministries over the next 10 years\, we look for employees that want to be part of something bigger than just a job. Over the next three months\, America's Thrift Stores is looking to hire approximately 300 people\, making us one of Alabama's most significant employers this quarter.\n\n \n\nAbout Us\n\nAmerica's Thrift Stores is a Christian retail company dedicated to financially supporting Christian-based family focused ministries. We take donations of gently used clothing and other items\, sell them to shoppers and other thrift customers in our stores and then distribute a significant portion of our profits to support seven different ministry partners. Founded in 1984 by Buford Salmon\, America's Thrift Stores is headquartered in Birmingham\, Alabama.  We operate 18 stores in Alabama\, Georgia\, Tennessee\, Mississippi and Louisiana and have over 1\,000 employees.  Our goal over the next 10 years is to distribute more than $100 million to our partner ministries through a growing donation network of 2\,300+ locations and in-home pick up service.\n\n \n\nWhat We Do:\n\n\n	We offer a new selection of thrifty treasures to customers every single day.\n	We spread the Word of Jesus Christ by financially supporting Christian-based ministries. \n	We will give $100 million over the next 10 years to Christian ministries.\n	We recycle millions of pounds of items that would otherwise go to landfills. \n	We empower our team members to develop extensive knowledge in retail sales\, production\, transportation\, fleet management and wholesale operations through effective cross-training for company advancement.
X-ALT-DESC;FMTTYPE=text/html:<strong><span style="color:black"><span style="font-family:arial\,sans-serif"><span style="font-size:10pt">Job Fair at America&#39\;s Thrift Store Alabaster February 25</span></span></span></strong><br />\n<br />\n<span style="color:black"><span style="font-family:arial\,sans-serif"><span style="font-size:10pt">America&rsquo\;s Thrift Stores is pleased to announce our Alabaster Job Fair on Wednesday\, February 25\, 2015.&nbsp\; Whether you are looking to start a new career\, second career or just work part-time\, we have a wide array of sales\, technical\, production and management-level jobs available at America&rsquo\;s Thrift Stores. </span></span></span><br />\n<br />\n<span style="color:black"><span style="font-family:arial\,sans-serif"><span style="font-size:10pt"><strong>Work in Alabaster</strong></span></span></span><br />\n<span style="color:black"><span style="font-family:arial\,sans-serif"><span style="font-size:10pt">Our Alabaster flagship store serves nearly 1\,000 customers each day with our team of more than 100 employees. It is a great place for someone to work who is looking for variety in their daily job\, a challenging environment and an employer with a purpose. With a mission to contribute $100 million to Christian ministries over the next 10 years\, we look for employees that want to be part of something bigger than just a job. Over the next three months\, America&rsquo\;s Thrift Stores is looking to hire approximately 300 people\, making us one of Alabama&rsquo\;s most significant employers this quarter.</span></span></span><br />\n&nbsp\;<br />\n<strong><span style="color:black"><span style="font-family:arial\,sans-serif"><span style="font-size:10pt">About Us</span></span></span></strong><br />\n<span style="color:black"><span style="font-family:arial\,sans-serif"><span style="font-size:10pt">America&#39\;s Thrift Stores is a Christian retail company dedicated to financially supporting Christian-based family focused ministries. We take&nbsp\;donations&nbsp\;of gently used clothing and other items\, sell them to shoppers and other thrift customers in our stores and then distribute a significant portion of our profits to support seven different&nbsp\;ministry partners. Founded in 1984 by Buford Salmon\, America&rsquo\;s Thrift Stores is headquartered in Birmingham\, Alabama.&nbsp\; We operate 18 stores in Alabama\, Georgia\, Tennessee\, Mississippi and Louisiana and have over 1\,000 employees.&nbsp\; Our goal over the next 10 years is to distribute more than $100 million to our partner ministries through a growing donation network of 2\,300+ locations and in-home pick up service.</span></span></span><br />\n&nbsp\;<br />\n<strong><span style="color:black"><span style="font-family:arial\,sans-serif"><span style="font-size:10pt">What We Do:</span></span></span></strong>\n\n<ul>\n	<li style="text-align:justify"><span style="color:black"><span style="font-family:arial\,sans-serif"><span style="font-size:10pt">We offer a <strong>new selection of thrifty treasures</strong> to customers every single day.</span></span></span></li>\n	<li style="text-align:justify"><span style="color:black"><span style="font-family:arial\,sans-serif"><span style="font-size:10pt">We <strong>spread the Word of Jesus Christ</strong> by financially supporting Christian-based ministries.&nbsp\;</span></span></span></li>\n	<li style="text-align:justify"><span style="color:black"><span style="font-family:arial\,sans-serif"><span style="font-size:10pt">We <strong>will give $100 million </strong>over the next 10 years to Christian ministries.</span></span></span></li>\n	<li style="text-align:justify"><span style="color:black"><span style="font-family:arial\,sans-serif"><span style="font-size:10pt">We <strong>recycle millions of pounds</strong> of items that would otherwise go to landfills.&nbsp\;</span></span></span></li>\n	<li style="text-align:justify"><span style="color:black"><span style="font-family:arial\,sans-serif"><span style="font-size:10pt">We <strong>empower our team members</strong> to develop extensive knowledge in retail sales\, production\, transportation\, fleet management and wholesale operations through effective cross-training for company advancement.</span></span></span></li>\n</ul>\n
LOCATION:America's Thrift Store 218 2nd Street SW Alabaster\, AL 35007
UID:e.145.7329
SEQUENCE:3
DTSTAMP:20260423T050717Z
URL:https://business.shelbychamber.org/events/details/america-s-thrift-store-alabaster-job-fair-february-25-02-25-2015-7329
END:VEVENT

END:VCALENDAR
