BEGIN:VCALENDAR
VERSION:2.0
PRODID:-//ChamberMaster//Event Calendar 2.0//EN
METHOD:PUBLISH
X-PUBLISHED-TTL:P3D
REFRESH-INTERVAL:P3D
CALSCALE:GREGORIAN
BEGIN:VEVENT
DTSTART:20151101T190000Z
DTEND:20151101T223000Z
X-MICROSOFT-CDO-ALLDAYEVENT:FALSE
SUMMARY:American Foundation for Suicide Prevention's Out of the Darkness Community Walk
DESCRIPTION:In the United States\, a person dies by suicide every 13.7 minutes\, claiming more than 41\,000 lives each year. This fall\, hundreds of American Foundation for Suicide Prevention's "Out of the Darkness" Community Walks will take place throughout the nation\, including one in Birmingham\, Alabama. People walk to raise awareness of depression and suicide\, to honor loved ones\, and to raise funds for research\, education\, and survivors of suicide support programs. This year\, the 10th Annual "Out of the Darkness" Community Walk in Birmingham will take place on Sunday\, November 1\, 2015 at Heardmont Park. Registration will open at 1:00 pm and the walk will begin at 2:30 pm. There is no registration fee. There will be a survivor area\, with counselors\, for walkers to post pictures of their loved ones. Complimentary refreshments will be available.
X-ALT-DESC;FMTTYPE=text/html:In the United States\, a person dies by suicide every 13.7 minutes\, claiming more than 41\,000 lives each year. This fall\, hundreds of American Foundation for Suicide Prevention&#39\;s &quot\;Out of the Darkness&quot\; Community Walks will take place throughout the nation\, including one in Birmingham\, Alabama. People walk to raise awareness of depression and suicide\, to honor loved ones\, and to raise funds for research\, education\, and survivors of suicide support programs. This year\, the 10th Annual &quot\;Out of the Darkness&quot\; Community Walk in Birmingham will take place on Sunday\, November 1\, 2015 at Heardmont Park. Registration will open at 1:00 pm and the walk will begin at 2:30 pm. There is no registration fee. There will be a survivor area\, with counselors\, for walkers to post pictures of their loved ones. Complimentary refreshments will be available.
LOCATION:Heardmont Park and Senior Center 5458 Cahaba Valley Rd Birmingham\, AL 35242
UID:e.145.7758
SEQUENCE:3
DTSTAMP:20260422T142428Z
URL:https://business.shelbychamber.org/events/details/american-foundation-for-suicide-prevention-s-out-of-the-darkness-community-walk-11-01-2015-7758
END:VEVENT

END:VCALENDAR
