BEGIN:VCALENDAR
VERSION:2.0
PRODID:-//ChamberMaster//Event Calendar 2.0//EN
METHOD:PUBLISH
X-PUBLISHED-TTL:P3D
REFRESH-INTERVAL:P3D
CALSCALE:GREGORIAN
BEGIN:VEVENT
DTSTART;VALUE=DATE:20131010
DTEND;VALUE=DATE:20131011
TRANSP:TRANSPARENT
X-MICROSOFT-CDO-ALLDAYEVENT:TRUE
SUMMARY:American Red Cross Blood Services and Shelby Humane Society Partnership
DESCRIPTION:The American Red Cross and Shelby Humane Society are partnering to save the lives people and pets! \n\n	All presenting blood and platelet donors at the Caldwell Trace Donor center will be eligible to adopt a pet from the Shelby Humane Society for free. They have generously agreed to waive adoption fees. The pets will be spayed/neutered\, microchipped and vacinated to date. The Caldwell Trace Donor Center will serve as a drop off point for items needed at the Humane Society. Their wish list includes: kitty litter\, canned and dry food for dogs and cats\, blankets\, towels\, bleach\, fabulouso or other cleaners\, mops\, brooms\, toys\, collars\, leashes\, crates\, gates\, dog houses and any other items to help make a pet feel more comfortable. Both the American Red Cross and the Shelby Humane Society understand constant need. Please join with us to save lives of those who are in need. 205-577-3477 DeNita Young
X-ALT-DESC;FMTTYPE=text/html:<p>\n	<span style="font-size: 14px"><strong><span style="color: #0000cd"><span style="font-family: tahoma"><span style="font-family: verdana"><span style="background-color: #f0fff0">The American Red Cross and Shelby Humane Society&nbsp\;are partnering to save the lives people and pets! </span><br />\n	<span style="background-color: #f0fff0">All presenting blood and platelet&nbsp\;donors at the Caldwell Trace Donor center will be eligible to adopt a pet from the Shelby Humane Society for free. They have generously agreed to </span><span style="background-color: #afeeee">waive adoption fees</span><span style="background-color: #f0fff0">. The pets will be spayed/neutered\, microchipped and vacinated to date. The Caldwell Trace Donor Center will serve as a drop off point for items needed at the Humane Society. Their wish list includes: kitty litter\, canned and dry food for dogs and cats\,&nbsp\;blankets\, towels\, bleach\, fabulouso or other cleaners\, mops\, brooms\, toys\, collars\, leashes\, crates\, gates\, dog houses and any other items to help make a pet feel more comfortable.&nbsp\;Both the American Red Cross&nbsp\;and the Shelby Humane Society understand constant need. Please join with us to save lives of those who&nbsp\;are in need.&nbsp\;205-577-3477 DeNita Young</span></span></span></span></strong></span></p>\n
LOCATION:700 Caldwell Trace Donor Center
UID:e.145.4331
SEQUENCE:3
DTSTAMP:20260424T051705Z
URL:https://business.shelbychamber.org/events/details/american-red-cross-blood-services-and-shelby-humane-society-partnership-10-10-2013-4331
END:VEVENT

END:VCALENDAR
