BEGIN:VCALENDAR
VERSION:2.0
PRODID:-//ChamberMaster//Event Calendar 2.0//EN
METHOD:PUBLISH
X-PUBLISHED-TTL:P3D
REFRESH-INTERVAL:P3D
CALSCALE:GREGORIAN
BEGIN:VEVENT
DTSTART:20110611T000000Z
DTEND:20110611T030000Z
X-MICROSOFT-CDO-ALLDAYEVENT:FALSE
SUMMARY:American Red Cross Night with the Barons
DESCRIPTION:$20 ticket admits 5 people!!  Proceeds benefit the American Red Cross.  Come on out and have a great time for a great cause!
X-ALT-DESC;FMTTYPE=text/html:<p>\n	$20 ticket admits 5 people!!&nbsp\; Proceeds benefit the American Red Cross.&nbsp\; Come on out and have a great time for a great cause!</p>\n
LOCATION:Regions Park\, Hoover\, AL
UID:e.145.3404
SEQUENCE:3
DTSTAMP:20260426T005753Z
URL:https://business.shelbychamber.org/events/details/american-red-cross-night-with-the-barons-06-10-2011-3404
END:VEVENT

END:VCALENDAR
