BEGIN:VCALENDAR
VERSION:2.0
PRODID:-//ChamberMaster//Event Calendar 2.0//EN
METHOD:PUBLISH
X-PUBLISHED-TTL:P3D
REFRESH-INTERVAL:P3D
CALSCALE:GREGORIAN
BEGIN:VEVENT
DTSTART:20151003T003000Z
DTEND:20151003T020000Z
X-MICROSOFT-CDO-ALLDAYEVENT:FALSE
SUMMARY:An Acoustic Tribute to America's Favorite Musical Duos with Dave and Alan
DESCRIPTION:Coming to the SCAC Black Box Theatre:  The show will be a tribute to the Greatest America Duo's: Simon and Garfunkel\, Everyl Brothers and More!  Dave and Alan are an Acoustic duo blending guitars and vocal harmonies - a strong\, clean sound.  Show time:  7:30pm.  Doors open at 7:00pm. Ticket price includes a beverage reception prior to the event. \n\n\n\nSponsored by :  Living Water Services and the Alabama State Council on the Arts
X-ALT-DESC;FMTTYPE=text/html:Coming to the SCAC Black Box Theatre:&nbsp\; The show will be a tribute to the Greatest America Duo&#39\;s: Simon and Garfunkel\, Everyl Brothers and More!&nbsp\; Dave and Alan are an Acoustic duo blending guitars and vocal harmonies - a strong\, clean sound.&nbsp\; Show time:&nbsp\; 7:30pm.&nbsp\; Doors open at 7:00pm. Ticket price includes a beverage reception prior to the event.&nbsp\;<br />\n<br />\nSponsored by :&nbsp\; Living Water Services and the Alabama State Council on the Arts
LOCATION:Shelby County Arts Council\, Black Box Theater 104 Mildred Street\, Columbiana\, AL
UID:e.145.7922
SEQUENCE:3
DTSTAMP:20260422T154744Z
URL:https://business.shelbychamber.org/events/details/an-acoustic-tribute-to-america-s-favorite-musical-duos-with-dave-and-alan-10-02-2015-7922
END:VEVENT

END:VCALENDAR
