BEGIN:VCALENDAR
VERSION:2.0
PRODID:-//ChamberMaster//Event Calendar 2.0//EN
METHOD:PUBLISH
X-PUBLISHED-TTL:P3D
REFRESH-INTERVAL:P3D
CALSCALE:GREGORIAN
BEGIN:VEVENT
DTSTART:20161210T010000Z
DTEND:20161210T040000Z
X-MICROSOFT-CDO-ALLDAYEVENT:FALSE
SUMMARY:An Elvis Christmas
DESCRIPTION:Local favorite Elvis impersonator Terry Padgett returns to the SCAC Black Box Theater for an evening of fun and entertainment while singing all your favorite Holiday Elvis hits!
X-ALT-DESC;FMTTYPE=text/html:Local favorite Elvis impersonator Terry Padgett returns to the SCAC Black Box Theater for an evening of fun and entertainment while singing all your favorite Holiday Elvis hits!
LOCATION:Shelby County Arts Council 104 Mildred Street Columbiana\, AL 35051
UID:e.145.9808
SEQUENCE:3
DTSTAMP:20260421T131911Z
URL:https://business.shelbychamber.org/events/details/an-elvis-christmas-9808
END:VEVENT

END:VCALENDAR
