BEGIN:VCALENDAR
VERSION:2.0
PRODID:-//ChamberMaster//Event Calendar 2.0//EN
METHOD:PUBLISH
X-PUBLISHED-TTL:P3D
REFRESH-INTERVAL:P3D
CALSCALE:GREGORIAN
BEGIN:VEVENT
DTSTART:20130921T150000Z
DTEND:20130921T160000Z
X-MICROSOFT-CDO-ALLDAYEVENT:FALSE
SUMMARY:Animal Adaptations
DESCRIPTION:In order for animals to survive\, they must adapt to the conditions around them. As many are preparing for winter\, learn what some of them do. We will meet at the entrance to the Petting Farm.
X-ALT-DESC;FMTTYPE=text/html:In order for animals to survive\, they must adapt to the conditions around them. As many are preparing for winter\, learn what some of them do. We will meet at the entrance to the Petting Farm.
LOCATION:Oak Mountain State Park - Petting Farm entrance
UID:e.145.4533
SEQUENCE:3
DTSTAMP:20260424T051143Z
URL:https://business.shelbychamber.org/events/details/animal-adaptations-09-21-2013-4533
END:VEVENT

END:VCALENDAR
