BEGIN:VCALENDAR
VERSION:2.0
PRODID:-//ChamberMaster//Event Calendar 2.0//EN
METHOD:PUBLISH
X-PUBLISHED-TTL:P3D
REFRESH-INTERVAL:P3D
CALSCALE:GREGORIAN
BEGIN:VEVENT
DTSTART:20140403T210000Z
DTEND:20140403T230000Z
X-MICROSOFT-CDO-ALLDAYEVENT:FALSE
SUMMARY:Anna Kathryn Davis-The Gifted
DESCRIPTION:Author talk\, book signing and refreshments at the Columbiana Library.
X-ALT-DESC;FMTTYPE=text/html:Author talk\, book signing and refreshments at the Columbiana Library.
LOCATION:Columbiana Library
UID:e.145.4920
SEQUENCE:3
DTSTAMP:20260423T183600Z
URL:https://business.shelbychamber.org/events/details/anna-kathryn-davis-the-gifted-04-03-2014-4920
END:VEVENT

END:VCALENDAR
