BEGIN:VCALENDAR
VERSION:2.0
PRODID:-//ChamberMaster//Event Calendar 2.0//EN
METHOD:PUBLISH
X-PUBLISHED-TTL:P3D
REFRESH-INTERVAL:P3D
CALSCALE:GREGORIAN
BEGIN:VEVENT
DTSTART:20130510T233000Z
DTEND:20130511T013000Z
X-MICROSOFT-CDO-ALLDAYEVENT:FALSE
SUMMARY:Annual CCS Auction!
DESCRIPTION:The Annual CCS Auction benefits the CCS General Fund.  This year\, in addition to handmade goods and baskets collected by our classrooms\, the auction features two new categories:\n\n\n\n1.  Luxury Vacations (airfare included) to locations such as Paris\, Cabo\, and Hawaii.\n\n\n\n2.  Sports Experiences (airfare included) to events such as Boston's Green Monstery\, Wrigley Field\, NASCAR events\, etc.\n\n\n\n3.  Autographed memorabilia\, including Johnny Cash\, Dale Earnhardt\, Taylor Swift\, Ronald Reagan\, and more!\n\n\n\nThe auction will be held Friday\, May 10th\, at 6:30 pm in the CCS Auditorium.\n\n\n\nFor more information call 205-669-7777.
X-ALT-DESC;FMTTYPE=text/html:The Annual CCS Auction benefits the CCS General Fund. &nbsp\;This year\, in addition to handmade goods and baskets collected by our classrooms\, the auction features two new categories:<br />\n<br />\n1. &nbsp\;Luxury Vacations (airfare included) to locations such as Paris\, Cabo\, and Hawaii.<br />\n<br />\n2. &nbsp\;Sports Experiences (airfare included) to events such as Boston&#39\;s Green Monstery\, Wrigley Field\, NASCAR events\, etc.<br />\n<br />\n3. &nbsp\;Autographed memorabilia\, including Johnny Cash\, Dale Earnhardt\, Taylor Swift\, Ronald Reagan\, and more!<br />\n<br />\nThe auction will be held Friday\, May 10th\, at 6:30 pm in the CCS Auditorium.<br />\n<br />\nFor more information call 205-669-7777.
LOCATION:24975 Highway 25 Columbiana\, AL 35051
UID:e.145.4608
SEQUENCE:3
DTSTAMP:20260424T120050Z
URL:https://business.shelbychamber.org/events/details/annual-ccs-auction-05-10-2013-4608
END:VEVENT

END:VCALENDAR
