BEGIN:VCALENDAR
VERSION:2.0
PRODID:-//ChamberMaster//Event Calendar 2.0//EN
METHOD:PUBLISH
X-PUBLISHED-TTL:P3D
REFRESH-INTERVAL:P3D
CALSCALE:GREGORIAN
BEGIN:VEVENT
DTSTART;VALUE=DATE:20130815
DTEND;VALUE=DATE:20130831
TRANSP:TRANSPARENT
X-MICROSOFT-CDO-ALLDAYEVENT:TRUE
SUMMARY:Annual Student and Instructor Gallery Art Exhibit
DESCRIPTION:Annual Student and Instructor Galley Exhibit\n\n	\n\n	Join the SCAC as we turn the spotlight on the Works of Art created by our very own Students and Instructors. Gallery Exhibits will include oil paintings\, acrylic paintings\, pottery\, photography and mixed media work. \n\n	\n\n	Gallery Hours are Monday - Thursday\, 10am - 5 pm\n\n	Admission is FREE!
X-ALT-DESC;FMTTYPE=text/html:<p>\n	Annual Student and Instructor Galley Exhibit<br />\n	<br />\n	Join the SCAC as we turn the spotlight on the Works of Art created by our very own Students and Instructors.&nbsp\;Gallery Exhibits will include oil paintings\, acrylic paintings\, pottery\, photography and mixed media work.&nbsp\;<br />\n	<br />\n	Gallery Hours are Monday - Thursday\, 10am - 5 pm<br />\n	Admission is FREE!</p>\n
LOCATION:Shelby County Arts Council\, 104 Mildred Street\, Columbiana\, AL 35051
UID:e.145.4687
SEQUENCE:3
DTSTAMP:20260424T065422Z
URL:https://business.shelbychamber.org/events/details/annual-student-and-instructor-gallery-art-exhibit-08-15-2013-4687
END:VEVENT

END:VCALENDAR
