BEGIN:VCALENDAR
VERSION:2.0
PRODID:-//ChamberMaster//Event Calendar 2.0//EN
METHOD:PUBLISH
X-PUBLISHED-TTL:P3D
REFRESH-INTERVAL:P3D
CALSCALE:GREGORIAN
BEGIN:VEVENT
DTSTART:20141219T150000Z
DTEND:20141219T210000Z
X-MICROSOFT-CDO-ALLDAYEVENT:FALSE
SUMMARY:Annual Trustway Charity Christmas Party
DESCRIPTION:It's time for our annual charity Christmas party! Open to the public\, this year's charity is aTeam Ministries. aTeam Ministries supports families that have children with cancer. This is agreat cause and we are proud to have partnered with them this Christmas season. We're going to have food\, fun and fellowship! If you have ever been to one of our Christmas parties\, you'll know it's amazing! aTeam is collecting cash donations and pre-paid Visa cards.
X-ALT-DESC;FMTTYPE=text/html:It&#39\;s time for our annual charity Christmas party! Open to the public\, this year&#39\;s charity is aTeam Ministries. aTeam Ministries supports families that have children with cancer. This is agreat cause and we are proud to have partnered with them this Christmas season. We&#39\;re going to have food\, fun and fellowship! If you have ever been to one of our Christmas parties\, you&#39\;ll know it&#39\;s amazing! aTeam is collecting cash donations and pre-paid Visa cards.
LOCATION:1837 Montgomery Hwy S\, Ste 105\, Hoover\, AL 35244
UID:e.145.6519
SEQUENCE:3
DTSTAMP:20260423T063414Z
URL:https://business.shelbychamber.org/events/details/annual-trustway-charity-christmas-party-12-19-2014-6519
END:VEVENT

END:VCALENDAR
