BEGIN:VCALENDAR
VERSION:2.0
PRODID:-//ChamberMaster//Event Calendar 2.0//EN
METHOD:PUBLISH
X-PUBLISHED-TTL:P3D
REFRESH-INTERVAL:P3D
CALSCALE:GREGORIAN
BEGIN:VEVENT
DTSTART:20151113T200000Z
DTEND:20151113T210000Z
X-MICROSOFT-CDO-ALLDAYEVENT:FALSE
SUMMARY:APCO Employees Credit Union Ribbon Cutting
DESCRIPTION:Please join us for a ribbon cutting honoring APCO Employees Credit Union's new location in Pelham!
X-ALT-DESC;FMTTYPE=text/html:Please join us for a ribbon cutting honoring APCO Employees Credit Union&#39\;s new location in Pelham!
LOCATION:APCO Employees Credit Union 101 Huntley Parkway Pelham\, AL 35124
UID:e.145.7964
SEQUENCE:3
DTSTAMP:20260422T142043Z
URL:https://business.shelbychamber.org/events/details/apco-employees-credit-union-ribbon-cutting-11-13-2015-7964
END:VEVENT

END:VCALENDAR
