BEGIN:VCALENDAR
VERSION:2.0
PRODID:-//ChamberMaster//Event Calendar 2.0//EN
METHOD:PUBLISH
X-PUBLISHED-TTL:P3D
REFRESH-INTERVAL:P3D
CALSCALE:GREGORIAN
BEGIN:VEVENT
DTSTART:20130605T133000Z
DTEND:20130605T163000Z
X-MICROSOFT-CDO-ALLDAYEVENT:FALSE
SUMMARY:Apple and AT&T Exclusive Invitation iPhone & iPad Business Briefing
DESCRIPTION:Apple and AT&T Invite You to an Exclusive iPhone & iPad Business Briefing\n\n\n\nApple and AT&T invite you to join an exclusive briefing to hear how iPhones & iPads can assist your everyday business needs. We will review iOS solutions that can help with your company's productivity\, enabling your organization to save time & money. We will share company success stories and discuss mobile device management solutions.\n\n\n\nClick here for online registration.
X-ALT-DESC;FMTTYPE=text/html:<strong>Apple and AT&amp\;T Invite You to an Exclusive iPhone &amp\; iPad Business Briefing</strong><br />\n<br />\nApple and AT&amp\;T invite you to join an exclusive briefing to hear how iPhones &amp\; iPads can assist your everyday business needs. We will review iOS solutions that can help with your company&rsquo\;s productivity\, enabling your organization to save time &amp\; money. We will share company success stories and discuss mobile device management solutions.<br />\n<br />\n<a href="https://events.r20.constantcontact.com/register/eventReg?oeidk=a07e7aqw64c8ba7e574#">Click here for online registration.</a>
LOCATION:Birmingham Marriott 3590 Grandview Parkway Birmingham\, AL 35243
UID:e.145.4624
SEQUENCE:3
DTSTAMP:20260424T102857Z
URL:https://business.shelbychamber.org/events/details/apple-and-at-t-exclusive-invitation-iphone-ipad-business-briefing-06-05-2013-4624
END:VEVENT

END:VCALENDAR
