BEGIN:VCALENDAR
VERSION:2.0
PRODID:-//ChamberMaster//Event Calendar 2.0//EN
METHOD:PUBLISH
X-PUBLISHED-TTL:P3D
REFRESH-INTERVAL:P3D
CALSCALE:GREGORIAN
BEGIN:VEVENT
DTSTART:20140417T150000Z
DTEND:20140508T220000Z
X-MICROSOFT-CDO-ALLDAYEVENT:FALSE
SUMMARY:April Gallery Exhbit featuring: Pat Hall & Mary Ann Pope
DESCRIPTION:Artist Reception- April 17th\, 2014 6:00 PM - 9:00 PM\n\nFeaturing Artist: Jacqueline (Pat) Hall --signature member of the Alabama Watercolor Society and the Southern Watercolor Society & Mary Ann Pope -- N.Y\, K.Y\, paints landscapes of the South using oils\, acrylics\, and watercolors.
X-ALT-DESC;FMTTYPE=text/html:Artist Reception- April 17th\, 2014 6:00 PM - 9:00 PM<br />\nFeaturing Artist: Jacqueline (Pat) Hall --signature member of the Alabama Watercolor Society and the Southern Watercolor Society &amp\; Mary Ann Pope -- N.Y\, K.Y\, paints landscapes of the South using oils\, acrylics\, and watercolors.&nbsp\;
LOCATION:Shelby County Arts Council - Gallery 104 Mildred Street Columbiana\, AL 35051 10:00am - 5:00pm
UID:e.145.5095
SEQUENCE:3
DTSTAMP:20260423T165331Z
URL:https://business.shelbychamber.org/events/details/april-gallery-exhbit-featuring-pat-hall-mary-ann-pope-04-17-2014-5095
END:VEVENT

END:VCALENDAR
