BEGIN:VCALENDAR
VERSION:2.0
PRODID:-//ChamberMaster//Event Calendar 2.0//EN
METHOD:PUBLISH
X-PUBLISHED-TTL:P3D
REFRESH-INTERVAL:P3D
CALSCALE:GREGORIAN
BEGIN:VEVENT
DTSTART:20160429T180000Z
DTEND:20160429T190000Z
X-MICROSOFT-CDO-ALLDAYEVENT:FALSE
SUMMARY:Art in Action
DESCRIPTION:Join us for a hands-on art program as we create a plastic bottle cap mural to display in the library. Part of our STEAM initiative (science\, technology\, engineering\, art\, and math)\, learn how perspective and scale can make art even more exciting! Ages 7   12. Registration required.
X-ALT-DESC;FMTTYPE=text/html:<span style="font-family:calibri light\,sans-serif">Join us for a hands-on art program as we create a plastic bottle cap mural to display in the library. Part of our STEAM initiative (science\, technology\, engineering\, art\, and math)\, learn how perspective and scale can make art even more exciting! Ages 7 &ndash\; 12. Registration required.</span>
LOCATION:North Shelby Library
UID:e.145.9412
SEQUENCE:3
DTSTAMP:20260422T074713Z
URL:https://business.shelbychamber.org/events/details/art-in-action-04-29-2016-9412
END:VEVENT

END:VCALENDAR
