BEGIN:VCALENDAR
VERSION:2.0
PRODID:-//ChamberMaster//Event Calendar 2.0//EN
METHOD:PUBLISH
X-PUBLISHED-TTL:P3D
REFRESH-INTERVAL:P3D
CALSCALE:GREGORIAN
BEGIN:VEVENT
DTSTART:20131212T170000Z
DTEND:20131213T010000Z
X-MICROSOFT-CDO-ALLDAYEVENT:FALSE
SUMMARY:Arthritis Foundation Open House / Fundraiser
DESCRIPTION:Open House and Fundraiser to benefit the Arthritis Foundation Jingle Bell Run. Free "mini Massages" Mary Kay items for sale and samples. Tropical Smoothie Samples. Raffle for holiday Baskets. Proceeds to benefit the Arthritis Foundation. Free spinal screenings. Come donate to a great cause! Holiday Refreshments
X-ALT-DESC;FMTTYPE=text/html:Open House and Fundraiser to benefit the Arthritis Foundation Jingle Bell Run. Free &quot\;mini Massages&quot\; Mary Kay items for sale and samples. Tropical Smoothie Samples. Raffle for holiday Baskets. Proceeds to benefit the Arthritis Foundation. Free spinal screenings. Come donate to a great cause! Holiday Refreshments 
LOCATION:Magic City Chiropractic and Wellness 3049 John Hawkins Parkway Suite 116 Sam's shopping center
UID:e.145.4959
SEQUENCE:3
DTSTAMP:20260424T002703Z
URL:https://business.shelbychamber.org/events/details/arthritis-foundation-open-house-fundraiser-12-12-2013-4959
END:VEVENT

END:VCALENDAR
