BEGIN:VCALENDAR
VERSION:2.0
PRODID:-//ChamberMaster//Event Calendar 2.0//EN
METHOD:PUBLISH
X-PUBLISHED-TTL:P3D
REFRESH-INTERVAL:P3D
CALSCALE:GREGORIAN
BEGIN:VEVENT
DTSTART:20151106T223000Z
DTEND:20151107T023000Z
X-MICROSOFT-CDO-ALLDAYEVENT:FALSE
SUMMARY:Artists Incorporated Gallery Reception
DESCRIPTION:Opening Reception featuring Mary Jean Henke\, Nancy Walton\, Libby Wright\, Amy Collins\, Nelson Grice. Wine\, food\, live music and great art. Everyone welcome!
X-ALT-DESC;FMTTYPE=text/html:Opening Reception featuring Mary Jean Henke\, Nancy Walton\, Libby Wright\, Amy Collins\, Nelson Grice. Wine\, food\, live music and great art. Everyone welcome!
LOCATION:Artists Incorporated Gallery 3365 Morgan Drive Vestavia Hills\, Al 35216
UID:e.145.7933
SEQUENCE:3
DTSTAMP:20260422T153143Z
URL:https://business.shelbychamber.org/events/details/artists-incorporated-gallery-reception-11-06-2015-7933
END:VEVENT

END:VCALENDAR
