BEGIN:VCALENDAR
VERSION:2.0
PRODID:-//ChamberMaster//Event Calendar 2.0//EN
METHOD:PUBLISH
X-PUBLISHED-TTL:P3D
REFRESH-INTERVAL:P3D
CALSCALE:GREGORIAN
BEGIN:VEVENT
DTSTART;VALUE=DATE:20111027
DTEND;VALUE=DATE:20111029
TRANSP:TRANSPARENT
X-MICROSOFT-CDO-ALLDAYEVENT:TRUE
SUMMARY:ARTS/CRAFTS AND GIFTS LOLLAPALOOZA benefitting Family Connection
DESCRIPTION:ARTS/CRAFTS AND GIFTS\n\n	LOLLAPALOOZA\n\n	AT\n\n	DANBERRY SENIOR LIVING\n\n	235 INVERNESS CENTER DRIVE\n\n	SPONSORED BY THE SOUTHERN AREA CARAVAN\n\n	 \n\n	BENEFITTING\n\n	FAMILY CONNECTION\n\n	 \n\n	THURSDAY\, OCTOBER 27\, 2011\n\n	4:30-8:30 PM\n\n	$15.00\n\n	Enjoy wonderful hors d'oeuvres\, cocktails and an evening of shopping and door prizes.  Ladies--call all of your friends and come enjoy this great evening!\n\n	 \n\n	FRIDAY\, OCTOBER 28\, 2011. \n\n	9:00-3:00 PM\n\n	$5.00\n\n	A day full of shopping enjoyment with our vendors.  \n\n	 \n\n	FROM 280\n\n	TURN ON TO INVERNESS CENTER DRIVE (ACROSS FROM SUPERIOR GRILL)\n\n	DANBERRY SENIOR LIVING WILL BE ON THE LEFT\n\n	\n\n	FROM VALLEYDALE ROAD\n\n	TURN ON TO INVERNESS CENTER DRIVE AT BEAUMONT SUBDIVISION AND ACROSS FROM THE HIGHLANDS AT INVERNESS SHOPPING CENTER (APPROXIMATELY   MILE FROM 280)
X-ALT-DESC;FMTTYPE=text/html:<p align="center" class="MsoNormal" style="text-align: center\;">\n	<span style="font-size: 14px\;"><span style="font-family: arial\;"><b style="">ARTS/CRAFTS AND GIFTS</b></span></span></p>\n<p align="center" class="MsoNormal" style="text-align: center\;">\n	<span style="font-size: 14px\;"><span style="font-family: arial\;"><b style="">LOLLAPALOOZA</b></span></span></p>\n<p align="center" class="MsoNormal" style="text-align: center\;">\n	<span style="font-size: 14px\;"><span style="font-family: arial\;"><b style="">AT</b></span></span></p>\n<p align="center" class="MsoNormal" style="text-align: center\;">\n	<span style="font-size: 14px\;"><span style="font-family: arial\;"><b style=""><i style="">DANBERRY SENIOR LIVING</i></b></span></span></p>\n<p align="center" class="MsoNormal" style="text-align: center\;">\n	<span style="font-size: 14px\;"><span style="font-family: arial\;"><b style=""><i style="">235 INVERNESS CENTER DRIVE</i></b></span></span></p>\n<p align="center" class="MsoNormal" style="text-align: center\;">\n	<span style="font-size: 14px\;"><span style="font-family: arial\;"><i style="">SPONSORED BY THE SOUTHERN AREA CARAVAN</i></span></span></p>\n<p align="center" class="MsoNormal" style="text-align: center\;">\n	&nbsp\;</p>\n<p align="center" class="MsoNormal" style="text-align: center\;">\n	<span style="font-size: 14px\;"><span style="font-family: arial\;"><b style="">BENEFITTING</b></span></span></p>\n<p align="center" class="MsoNormal" style="text-align: center\;">\n	<span style="font-size: 14px\;"><span style="font-family: arial\;"><b style="">FAMILY CONNECTION</b></span></span></p>\n<p align="center" class="MsoNormal" style="text-align: center\;">\n	&nbsp\;</p>\n<p align="center" class="MsoNormal" style="text-align: center\;">\n	<span style="font-size: 14px\;"><span style="font-family: arial\;"><b style="">THURSDAY\, OCTOBER 27\, 2011</b></span></span></p>\n<p align="center" class="MsoNormal" style="text-align: center\;">\n	<span style="font-size: 14px\;"><span style="font-family: arial\;"><b style="">4:30-8:30 PM</b></span></span></p>\n<p align="center" class="MsoNormal" style="text-align: center\;">\n	<span style="font-size: 14px\;"><span style="font-family: arial\;"><b style="">$15.00</b></span></span></p>\n<p align="center" class="MsoNormal" style="text-align: center\;">\n	<span style="font-size: 14px\;"><span style="font-family: arial\;"><span style="color: black\;">Enjoy wonderful hors d&#39\;oeuvres\, cocktails and an evening of shopping and door prizes.&nbsp\; <b style="">Ladies--call all of your friends and come enjoy this great evening!</b></span></span></span></p>\n<p align="center" class="MsoNormal" style="text-align: center\;">\n	<span style="font-size: 14px\;"><span style="font-family: arial\;"><b style="">&nbsp\;</b></span></span></p>\n<p align="center" class="MsoNormal" style="text-align: center\;">\n	<span style="font-size: 14px\;"><span style="font-family: arial\;"><b style=""><span style="color: black\;">FRIDAY\, OCTOBER 28\, 2011.&nbsp\;<br />\n	9:00-3:00 PM<br />\n	$5.00<br />\n	</span></b><span style="color: black\;">A day full of shopping enjoyment with our vendors.&nbsp\; </span></span></span></p>\n<p align="center" class="MsoNormal" style="text-align: center\;">\n	<span style="font-size: 14px\;"><span style="font-family: arial\;"><b style="">&nbsp\;</b></span></span></p>\n<p align="center" class="MsoNormal" style="text-align: center\;">\n	<span style="font-size: 14px\;"><span style="font-family: arial\;"><b style="">FROM 280</b></span></span></p>\n<p align="center" class="MsoNormal" style="text-align: center\;">\n	<span style="font-size: 14px\;"><span style="font-family: arial\;"><b style="">TURN ON TO INVERNESS CENTER DRIVE (ACROSS FROM SUPERIOR GRILL)</b></span></span></p>\n<p align="center" class="MsoNormal" style="text-align: center\;">\n	<span style="font-size: 14px\;"><span style="font-family: arial\;"><b style="">DANBERRY SENIOR LIVING WILL BE ON THE LEFT<br />\n	</b></span></span></p>\n<p align="center" class="MsoNormal" style="text-align: center\;">\n	<span style="font-size: 14px\;"><span style="font-family: arial\;"><b style="">FROM VALLEYDALE ROAD</b></span></span></p>\n<p align="center" class="MsoNormal" style="text-align: center\;">\n	<span style="font-size: 14px\;"><span style="font-family: arial\;"><b style="">TURN ON TO INVERNESS CENTER DRIVE AT BEAUMONT SUBDIVISION AND ACROSS FROM THE HIGHLANDS AT INVERNESS SHOPPING CENTER (APPROXIMATELY &frac12\; MILE FROM 280)</b></span></span></p>\n
LOCATION:Danberry At Inverness 235 Inverness Center Dr Birmingham AL 35242 (205) 443-9500
UID:e.145.3541
SEQUENCE:3
DTSTAMP:20260425T183432Z
URL:https://business.shelbychamber.org/events/details/arts-crafts-and-gifts-lollapalooza-benefitting-family-connection-10-27-2011-3541
END:VEVENT

END:VCALENDAR
