BEGIN:VCALENDAR
VERSION:2.0
PRODID:-//ChamberMaster//Event Calendar 2.0//EN
METHOD:PUBLISH
X-PUBLISHED-TTL:P3D
REFRESH-INTERVAL:P3D
CALSCALE:GREGORIAN
BEGIN:VEVENT
DTSTART:20130720T210000Z
DTEND:20130721T000000Z
X-MICROSOFT-CDO-ALLDAYEVENT:FALSE
SUMMARY:ASN Nite market
DESCRIPTION:ASC Nite Market\, 4-7p.m.\, outdoors at UAB's Alys Stephens Center\, 1200 10th Ave. South. The ASC continues its mission of curating and creating diverse arts events for the community with the ASC Nite Market beginning at 4 p.m. and a 7:30 p.m. performance of Susan Werner's "Hayseed Project."\n\n	\n\n	Buy produce from local farmers markets including Pepper Place Saturday Market\, Jones Valley Teaching Farm and the UAB Wellness Veggie Cart. Enjoy live music from Jason Bailey Trio\, food from Jim 'N Nick's Bar-B-Q and craft brews from Good People Brewing Co.\, attend talks by local craft brewers\, coffee roasters and innovative growers and play bocce ball or croquet with Green Central Station. Kids can create garden collages and edible sculpture and learn about animals and plant species in the ArtPlay Kids' Courtyard.\n\n	\n\n	Purchase veggies without worry\, since the ASC will offer a "veggie check" for market purchases at the door before enjoying the show. Admission to the market is free. Call 205-975-2787 or visit www.AlysStephens.org.
X-ALT-DESC;FMTTYPE=text/html:<p class="MsoNormal" style="margin: 0in 0in 10pt">\n	<span style="font-family:arial\;"><span style="font-size: 10px\;"><font color="#000000"><b><span>ASC Nite Market</span></b><span>\, 4-7p.m.\, outdoors at UAB&rsquo\;s Alys Stephens Center\, 1200 10<sup>th</sup><span class="apple-converted-space">&nbsp\;</span>Ave. South. The ASC continues its mission of curating and creating diverse arts events for the community with the ASC Nite Market beginning at 4 p.m. and a 7:30 p.m. performance of Susan Werner&rsquo\;s &ldquo\;Hayseed Project.&rdquo\;<br />\n	<br />\n	Buy produce from local<span class="apple-converted-space">&nbsp\;farmers&nbsp\;</span>markets including Pepper Place Saturday Market\, Jones Valley Teaching Farm and the UAB Wellness Veggie Cart. Enjoy live music from Jason Bailey Trio\, food from Jim &lsquo\;N Nick&rsquo\;s Bar-B-Q and craft brews from Good People Brewing Co.\, attend talks by local craft brewers\, coffee roasters and innovative growers and play bocce ball or croquet with Green Central Station. Kids can create garden collages and edible sculpture and learn about animals and plant species in the ArtPlay Kids&rsquo\; Courtyard.<br />\n	<br />\n	Purchase veggies without worry\, since the ASC will offer a &ldquo\;veggie check&rdquo\; for market purchases at the door before enjoying the show. Admission to the market is free. Call 205-975-2787 or visit </span></font><a href="http://www.alysstephens.org/" target="_blank"><span style="color: purple\;">www.AlysStephens.org</span></a><span class="MsoHyperlink"><span style="color: blue\;">.</span></span></span></span><span style="mso-ascii-font-family: Calibri\; mso-hansi-font-family: Calibri"><o:p></o:p></span></p>\n
LOCATION:UAB's Alys Stephens Center
UID:e.145.4677
SEQUENCE:3
DTSTAMP:20260424T085128Z
URL:https://business.shelbychamber.org/events/details/asn-nite-market-07-20-2013-4677
END:VEVENT

END:VCALENDAR
