BEGIN:VCALENDAR
VERSION:2.0
PRODID:-//ChamberMaster//Event Calendar 2.0//EN
METHOD:PUBLISH
X-PUBLISHED-TTL:P3D
REFRESH-INTERVAL:P3D
CALSCALE:GREGORIAN
BEGIN:VEVENT
DTSTART:20130615T140000Z
DTEND:20130615T200000Z
X-MICROSOFT-CDO-ALLDAYEVENT:FALSE
SUMMARY:AT&T Hiring Event - Hiring Technicians on the Spot!
DESCRIPTION:We're Hiring Technicians in Birmingham\, AL!\n\n\n\nWHAT: We are relying on our strongest resource--YOU--to help recruit and retain the best talent! \n\n\n\nACTION ITEM:\n\nSend any interested referrals to our Hiring Event this Saturday\, June 15\, 2013 anytime between 9:00 AM and 3:00 PM at:\n\n\n\n3196 Highway 280 SE\n\nBirmingham\, AL 35243\n\n\n\nStaffing Managers will be on-site to test\, interview and hire on the spot!\n\n\n\nForward this email to your referrals. Interested candidates can also apply on-line and learn more at  www.att.jobs/InstallAlabama.
X-ALT-DESC;FMTTYPE=text/html:<b><span style="font-size:13.5pt\;font-family:&quot\;Verdana&quot\;\,&quot\;sans-serif&quot\;\;color:#3AA5DC">We&#39\;re Hiring Technicians in Birmingham\, AL!</span></b><br />\n<br />\n<b><span style="font-size:9.0pt\;font-family:&quot\;Verdana&quot\;\,&quot\;sans-serif&quot\;\;color:#0096D7">WHAT:</span></b><span style="font-size:9.0pt\;font-family:&quot\;Verdana&quot\;\,&quot\;sans-serif&quot\;\;color:#666868"> We are relying on our strongest resource--<b>YOU</b>--to help recruit and retain the best talent! </span><br />\n<br />\n<b><span style="font-size:9.0pt\;font-family:&quot\;Verdana&quot\;\,&quot\;sans-serif&quot\;\;color:#0096D7">ACTION ITEM:</span></b><br />\n<span style="font-size:9.0pt\;font-family:&quot\;Verdana&quot\;\,&quot\;sans-serif&quot\;\;color:#666868">Send any interested referrals to our <b>Hiring Event</b> this <b>Saturday\, June 15\, 2013</b> anytime between <b>9:00 AM and 3:00 PM</b> at:<br />\n<br />\n<b>3196 Highway 280 SE</b><br />\n<b>Birmingham\, AL 35243</b><br />\n<br />\nStaffing Managers will be on-site to test\, interview and hire on the spot!<br />\n<br />\nForward this email to your referrals. Interested candidates can also apply on-line and learn more at <a href="http://tmpeod.rsys1.net/servlet/cc6?luiLhKQSWDYDQSVuJDWWDxHllQJhuVaVTVXLX"> www.att.jobs/InstallAlabama</a>.</span>
LOCATION:3196 Highway 280 SE Birmingham\, AL 35243
UID:e.145.4648
SEQUENCE:3
DTSTAMP:20260424T102842Z
URL:https://business.shelbychamber.org/events/details/at-t-hiring-event-hiring-technicians-on-the-spot-06-15-2013-4648
END:VEVENT

END:VCALENDAR
