BEGIN:VCALENDAR
VERSION:2.0
PRODID:-//ChamberMaster//Event Calendar 2.0//EN
METHOD:PUBLISH
X-PUBLISHED-TTL:P3D
REFRESH-INTERVAL:P3D
CALSCALE:GREGORIAN
BEGIN:VEVENT
DTSTART:20130615T150000Z
DTEND:20130615T160000Z
X-MICROSOFT-CDO-ALLDAYEVENT:FALSE
SUMMARY:Attracting Wildlife to Your Yard
DESCRIPTION:Learn the best ways to attract the right kind of wildlife to your yard. We will be making bird feeders as part of this program. Meet at the Campground Pavilion.
X-ALT-DESC;FMTTYPE=text/html:Learn the best ways to attract the right kind of wildlife to your yard. We will be making bird feeders as part of this program. Meet at the Campground Pavilion.
LOCATION:Oak Mountain State Park - Campground Pavilion
UID:e.145.4523
SEQUENCE:3
DTSTAMP:20260424T120322Z
URL:https://business.shelbychamber.org/events/details/attracting-wildlife-to-your-yard-06-15-2013-4523
END:VEVENT

END:VCALENDAR
