BEGIN:VCALENDAR
VERSION:2.0
PRODID:-//ChamberMaster//Event Calendar 2.0//EN
METHOD:PUBLISH
X-PUBLISHED-TTL:P3D
REFRESH-INTERVAL:P3D
CALSCALE:GREGORIAN
BEGIN:VEVENT
DTSTART:20130419T223000Z
DTEND:20130420T000000Z
X-MICROSOFT-CDO-ALLDAYEVENT:FALSE
SUMMARY:Auction Alabaster 1st Methodist
DESCRIPTION:LIVE & SILENT AUCTION\n\nAPRIL 19\, 2013\n\nDoors Open at 5:30pm\n\nLive Auction at 7:00pm\n\nFIRST UNITED METHODIST CHURCH of ALABASTER\n\nRESTORE BUILDING\n\n128 MARKET CENTER DRIVE\, ALABASTER\, AL 35007\n\n(In the shopping center adjacent to church)\n\n\n\nFendi & Ferragamo Handbags\n\nKennedy Rocking Chair\n\nLenox Porcelain White Nativity\n\nCrystal Candelabra\n\nFranciscan China-Autumn Pattern\n\nVintage Crystal Stemware\n\n33 LP Album Collection\n\nLate 1800"-mid 1900"s Sheet Music\n\nSt. Francis of Assisi wooden statue\n\nVintage Table Lamp\n\nAntique Wardrobe\n\nAntique Table\n\n2 Mink Stoles\n\n2 Matching Barrel Chairs\n\nComputer Cabinet\n\n4-Drawer Wood Filing Cabinet\n\nAntique Game Table & 4 Chairs\n\nHand carved Wooden Cross Ink Pen\n\nHand carved Wooden Coffee Scoop\n\nRoyal Doulton Antique\n\nBowl & Pitcher\n\n4 Swarovski Crystal Brooches\n\nOak Desk\n\nRaymond Floyd Signed\n\nNumbered Print\n\nChi Chi Rodriguez Signed\n\nNumbered Print\n\nLee Trevino Signed\n\nNumbered Print\n\nVictoriana China\n\nLincoln Cent Starter Set\n\nJefferson Nickel Starter Set\n\nBentwood Rocker\n\nTopaz Ring\n\nLoose Topaz Stones\n\n4-Panel Oriental Table-Top Screen\n\nSet of 3 Raikes Bears\n\nRaikes Collectibles-Dottie\n\nSteiff 1993 Musical Teddy Bear\n\nLeRoy Neiman "Ice Castles"\n\nsigned serigraph\n\nLeRoy Neiman "Olympics"\n\nsigned litho\n\nPeter Max "Lady in Green"\n\nsigned litho\n\n(2) 1885 German Bibles\n\n(2) Needlepoint Chairs\n\nRoll Top desk\n\nTreadmill\n\nSewing Machine in Cabinet\n\n& Storage Chair\n\n3 Boxes for Motor Home\n\nInterior Set Up\n\nTempleton Framed Watercolor\n\n"Bow Flex" Type Exerciser\n\nLarge Ornate Mirror\n\nJennifer Hartwell\n\nAlabama Collection\n\nFAO Swartz Papillion Barbie\n\n7 FT. China Cabinet\n\nDining Room Table + 4 Chairs\n\nNavarre Crystal\n\nCollectible China\n\nRosenthal China\n\nAntique Arts & Crafts\n\nBird Bath\n\n1970's Picasso Paris\n\nExhibition Poster\n\nMid-Century Danish Modern Chair\n\nMid-Century Office Chair\n\nCivil War Canteen\n\nWeller\, Norman Smith\, Bobby\n\nGaither\, & NC Pottery\n\nPair Antique French\n\nBrass Candelabra\n\n(3) Carnival Glass bowls\n\n5-Piece Victorian\n\nLiving Room Suite\n\nDining Room Table + 6 Chairs\n\nWhite Wicker Baby Carriage\n\nEmpire Round Pedestal Table\n\nPink Velvet Nursery Rocker\n\nOak Pedestal Table\n\nAntique Blue Floral Loveseat\n\nChild's Wicker Rocker\n\nWriting Desk\n\nFramed Prints\n\nOriginal Art by Local Artists\n\nAntique Chairs\n\n3 Drop-Leaf Tables\n\nChilmark Pewter Sculptures\n\nTackle Boxes\n\nRods & Reels\n\nCrosscut Saws\n\nLarge Armoire\n\nMatching Antique 4 Drawer Chest\n\n& vanity\n\nWWII Sword\n\nRoseville Pottery Jar\n\nSilverplate sets\n\nSilver Coins\n\nGift Baskets\n\nSERVICES & GET-AWAYS\n\n15 Minutes Harp Music\n\nPhotography Session (1-1.5 hr)\n\nAdvertising/Branding Specialist\n\nNew Patient Dental Exam\n\n3 Month Citywide Family\n\nY Membership\n\nTRX Class Alabaster Y\n\nPrivate Yoga Alabaster Y\n\n3 hrs. Handyman Labor for Home\,\n\nAppliance\, etc. Repairs\n\n(materials not included)\n\nTimberline Golf Foursome\n\nBallentrae Golf Foursome\n\nGulf Shores Beach Condo\n\n3 nights valid until August 2014\n\nBlue Mountain Beach Adagio\n\nResort\, Destin\, 1 week (Mon.-Sun.)\n\nLake Martin Still Waters Resort\n\nLong Weekend5-Night Gulf\n\nShores Condo\n\n1 yr. FUMCA Preschool Scholarship\n\n4 Horseback Riding Lessons\n\nNew items added every day!\n\nFIRST UNITED METHODIST CHURCH\n\nof ALABASTER\n\nTelephone 205.663.0509\n\nContact\n\nMike Densmore\, Executive Pastor\n\nmike@alabasterfumc.org\n\nJane Cornelius\, Executive Ministry Assistant\n\njane@alabasterfumc.org\n\nView sample items on\n\nwww.alabasterfumc.org
X-ALT-DESC;FMTTYPE=text/html:LIVE &amp\; SILENT AUCTION<br />\nAPRIL 19\, 2013<br />\nDoors Open at 5:30pm<br />\nLive Auction at 7:00pm<br />\nFIRST UNITED METHODIST CHURCH of ALABASTER<br />\nRESTORE BUILDING<br />\n128 MARKET CENTER DRIVE\, ALABASTER\, AL 35007<br />\n(In the shopping center adjacent to church)<br />\n<br />\nFendi &amp\; Ferragamo Handbags<br />\nKennedy Rocking Chair<br />\nLenox Porcelain White Nativity<br />\nCrystal Candelabra<br />\nFranciscan China-Autumn Pattern<br />\nVintage Crystal Stemware<br />\n33 LP Album Collection<br />\nLate 1800&quot\;-mid 1900&quot\;s Sheet Music<br />\nSt. Francis of Assisi wooden statue<br />\nVintage Table Lamp<br />\nAntique Wardrobe<br />\nAntique Table<br />\n2 Mink Stoles<br />\n2 Matching Barrel Chairs<br />\nComputer Cabinet<br />\n4-Drawer Wood Filing Cabinet<br />\nAntique Game Table &amp\; 4 Chairs<br />\nHand carved Wooden Cross Ink Pen<br />\nHand carved Wooden Coffee Scoop<br />\nRoyal Doulton Antique<br />\nBowl &amp\; Pitcher<br />\n4 Swarovski Crystal Brooches<br />\nOak Desk<br />\nRaymond Floyd Signed<br />\nNumbered Print<br />\nChi Chi Rodriguez Signed<br />\nNumbered Print<br />\nLee Trevino Signed<br />\nNumbered Print<br />\nVictoriana China<br />\nLincoln Cent Starter Set<br />\nJefferson Nickel Starter Set<br />\nBentwood Rocker<br />\nTopaz Ring<br />\nLoose Topaz Stones<br />\n4-Panel Oriental Table-Top Screen<br />\nSet of 3 Raikes Bears<br />\nRaikes Collectibles-Dottie<br />\nSteiff 1993 Musical Teddy Bear<br />\nLeRoy Neiman &quot\;Ice Castles&quot\;<br />\nsigned serigraph<br />\nLeRoy Neiman &quot\;Olympics&quot\;<br />\nsigned litho<br />\nPeter Max &quot\;Lady in Green&quot\;<br />\nsigned litho<br />\n(2) 1885 German Bibles<br />\n(2) Needlepoint Chairs<br />\nRoll Top desk<br />\nTreadmill<br />\nSewing Machine in Cabinet<br />\n&amp\; Storage Chair<br />\n3 Boxes for Motor Home<br />\nInterior Set Up<br />\nTempleton Framed Watercolor<br />\n&quot\;Bow Flex&quot\; Type Exerciser<br />\nLarge Ornate Mirror<br />\nJennifer Hartwell<br />\nAlabama Collection<br />\nFAO Swartz Papillion Barbie<br />\n7 FT. China Cabinet<br />\nDining Room Table + 4 Chairs<br />\nNavarre Crystal<br />\nCollectible China<br />\nRosenthal China<br />\nAntique Arts &amp\; Crafts<br />\nBird Bath<br />\n1970&rsquo\;s Picasso Paris<br />\nExhibition Poster<br />\nMid-Century Danish Modern Chair<br />\nMid-Century Office Chair<br />\nCivil War Canteen<br />\nWeller\, Norman Smith\, Bobby<br />\nGaither\, &amp\; NC Pottery<br />\nPair Antique French<br />\nBrass Candelabra<br />\n(3) Carnival Glass bowls<br />\n5-Piece Victorian<br />\nLiving Room Suite<br />\nDining Room Table + 6 Chairs<br />\nWhite Wicker Baby Carriage<br />\nEmpire Round Pedestal Table<br />\nPink Velvet Nursery Rocker<br />\nOak Pedestal Table<br />\nAntique Blue Floral Loveseat<br />\nChild&rsquo\;s Wicker Rocker<br />\nWriting Desk<br />\nFramed Prints<br />\nOriginal Art by Local Artists<br />\nAntique Chairs<br />\n3 Drop-Leaf Tables<br />\nChilmark Pewter Sculptures<br />\nTackle Boxes<br />\nRods &amp\; Reels<br />\nCrosscut Saws<br />\nLarge Armoire<br />\nMatching Antique 4 Drawer Chest<br />\n&amp\; vanity<br />\nWWII Sword<br />\nRoseville Pottery Jar<br />\nSilverplate sets<br />\nSilver Coins<br />\nGift Baskets<br />\nSERVICES &amp\; GET-AWAYS<br />\n15 Minutes Harp Music<br />\nPhotography Session (1-1.5 hr)<br />\nAdvertising/Branding Specialist<br />\nNew Patient Dental Exam<br />\n3 Month Citywide Family<br />\nY Membership<br />\nTRX Class Alabaster Y<br />\nPrivate Yoga Alabaster Y<br />\n3 hrs. Handyman Labor for Home\,<br />\nAppliance\, etc. Repairs<br />\n(materials not included)<br />\nTimberline Golf Foursome<br />\nBallentrae Golf Foursome<br />\nGulf Shores Beach Condo<br />\n3 nights valid until August 2014<br />\nBlue Mountain Beach Adagio<br />\nResort\, Destin\, 1 week (Mon.-Sun.)<br />\nLake Martin Still Waters Resort<br />\nLong Weekend5-Night Gulf<br />\nShores Condo<br />\n1 yr. FUMCA Preschool Scholarship<br />\n4 Horseback Riding Lessons<br />\nNew items added every day!<br />\nFIRST UNITED METHODIST CHURCH<br />\nof ALABASTER<br />\nTelephone 205.663.0509<br />\nContact<br />\nMike Densmore\, Executive Pastor<br />\nmike@alabasterfumc.org<br />\nJane Cornelius\, Executive Ministry Assistant<br />\njane@alabasterfumc.org<br />\nView sample items on<br />\nwww.alabasterfumc.org
LOCATION:LIVE & SILENT AUCTION APRIL 19\, 2013 Doors Open at 5:30pm Live Auction at 7:00pm FIRST UNITED METHODIST CHURCH of ALABASTER RESTORE BUILDING 128 MARKET CENTER DRIVE\, ALABASTER\, AL 35007 (In the shopping center adjacent to church)
UID:e.145.4575
SEQUENCE:3
DTSTAMP:20260424T134309Z
URL:https://business.shelbychamber.org/events/details/auction-alabaster-1st-methodist-04-19-2013-4575
END:VEVENT

END:VCALENDAR
