BEGIN:VCALENDAR
VERSION:2.0
PRODID:-//ChamberMaster//Event Calendar 2.0//EN
METHOD:PUBLISH
X-PUBLISHED-TTL:P3D
REFRESH-INTERVAL:P3D
CALSCALE:GREGORIAN
BEGIN:VEVENT
DTSTART:20160425T230000Z
DTEND:20160426T000000Z
X-MICROSOFT-CDO-ALLDAYEVENT:FALSE
SUMMARY:Author Visit: Alan Katz
DESCRIPTION:Join us for an extra special visit from children's author Alan Katz for a talk and book signing! Author of the Silly Dilly Songbooks\, and hilarious poetry like Oops! and Poems I Wrote When No One Was Looking\, this visit will be full of fun! All ages welcome.
X-ALT-DESC;FMTTYPE=text/html:<span style="font-family:calibri light\,sans-serif">Join us for an extra special visit from children&rsquo\;s author Alan Katz for a talk and book signing! Author of the <strong><em>Silly Dilly Songbooks\, </em></strong>and hilarious poetry like <strong><em>Oops! </em></strong>and <strong><em>Poems I Wrote When No One Was Looking</em></strong>\, this visit will be full of fun! All ages welcome.</span>
LOCATION:North Shelby Library
UID:e.145.9411
SEQUENCE:3
DTSTAMP:20260422T061206Z
URL:https://business.shelbychamber.org/events/details/author-visit-alan-katz-04-25-2016-9411
END:VEVENT

END:VCALENDAR
