BEGIN:VCALENDAR
VERSION:2.0
PRODID:-//ChamberMaster//Event Calendar 2.0//EN
METHOD:PUBLISH
X-PUBLISHED-TTL:P3D
REFRESH-INTERVAL:P3D
CALSCALE:GREGORIAN
BEGIN:VEVENT
DTSTART:20120419T230000Z
DTEND:20120420T010000Z
X-MICROSOFT-CDO-ALLDAYEVENT:FALSE
SUMMARY:AVEDA Institute Birmingham Celebrates Earth Month at Wine Loft!
DESCRIPTION:We're putting our talent and creativity to work for clean water this Earth Month. Hot new trends in hair\, makeup\, and fashion take a turn on our Catwalk for Water as we raise money to support local clean water partners: Gulf Restoration Network and Lower Mississippi Riverkeeper. Don't miss the fun!! Join the cause and get your ticket today.
X-ALT-DESC;FMTTYPE=text/html:We&#39\;re putting our talent and creativity to work for clean water this Earth Month. Hot new trends in hair\, makeup\, and fashion take a turn on our Catwalk for Water as we raise money to support local clean water partners: Gulf Restoration Network and Lower Mississippi Riverkeeper. Don&#39\;t miss the fun!! Join the cause and get your ticket today.<br />\n<br />\n
LOCATION:The Wine Loft
UID:e.145.4004
SEQUENCE:3
DTSTAMP:20260425T102553Z
URL:https://business.shelbychamber.org/events/details/aveda-institute-birmingham-celebrates-earth-month-at-wine-loft-04-19-2012-4004
END:VEVENT

END:VCALENDAR
