BEGIN:VCALENDAR
VERSION:2.0
PRODID:-//ChamberMaster//Event Calendar 2.0//EN
METHOD:PUBLISH
X-PUBLISHED-TTL:P3D
REFRESH-INTERVAL:P3D
CALSCALE:GREGORIAN
BEGIN:VEVENT
DTSTART:20140121T153000Z
DTEND:20140121T160000Z
X-MICROSOFT-CDO-ALLDAYEVENT:FALSE
SUMMARY:Baby Tales
DESCRIPTION:A story time designed especially for babies and their caregivers. Stories and music provide interaction for the babies and time for caregivers to talk and share with each other. Ages: Birth to 18 months. Registration Required. Registration will begin one week prior to program date.
X-ALT-DESC;FMTTYPE=text/html:A story time designed especially for babies and their caregivers. Stories and music provide interaction for the babies and time for caregivers to talk and share with each other. Ages: Birth to 18 months. Registration Required. Registration will begin one week prior to program date. 
LOCATION:North Shelby Library
UID:e.145.4988
SEQUENCE:3
DTSTAMP:20260423T225514Z
URL:https://business.shelbychamber.org/events/details/baby-tales-01-21-2014-4988
END:VEVENT

END:VCALENDAR
