BEGIN:VCALENDAR
VERSION:2.0
PRODID:-//ChamberMaster//Event Calendar 2.0//EN
METHOD:PUBLISH
X-PUBLISHED-TTL:P3D
REFRESH-INTERVAL:P3D
CALSCALE:GREGORIAN
BEGIN:VEVENT
DTSTART:20150407T143000Z
DTEND:20150407T150000Z
X-MICROSOFT-CDO-ALLDAYEVENT:FALSE
SUMMARY:Baby Tales
DESCRIPTION:A story time designed especially for babies and their caregivers. Stories and music provide interaction for the babies and time for caregivers to talk and share with each other.  Ages: Birth to 18 months.  Registration Required.  Registration will begin one week prior to program date.
X-ALT-DESC;FMTTYPE=text/html:A story time designed especially for babies and their caregivers. Stories and music provide interaction for the babies and time for caregivers to talk and share with each other.&nbsp\; <u>Ages: Birth to 18 months</u>.&nbsp\; <u>Registration Required</u>.&nbsp\; Registration will begin one week prior to program date.&nbsp\;&nbsp\;
LOCATION:5521 Cahaba Valley Rd. Birmingham\, AL 35242
UID:e.145.7613
SEQUENCE:3
DTSTAMP:20260423T003111Z
URL:https://business.shelbychamber.org/events/details/baby-tales-04-07-2015-7613
END:VEVENT

END:VCALENDAR
