BEGIN:VCALENDAR
VERSION:2.0
PRODID:-//ChamberMaster//Event Calendar 2.0//EN
METHOD:PUBLISH
X-PUBLISHED-TTL:P3D
REFRESH-INTERVAL:P3D
CALSCALE:GREGORIAN
BEGIN:VEVENT
DTSTART:20151006T143000Z
DTEND:20151006T150000Z
X-MICROSOFT-CDO-ALLDAYEVENT:FALSE
SUMMARY:Baby Tales
DESCRIPTION:A story time designed especially for babies and their caregivers. Stories and music provide interaction for the babies and time for caregivers to talk and share with each other. Ages: birth to 18 months. Registration required. Registration will begin one week prior to program date.
X-ALT-DESC;FMTTYPE=text/html:A story time designed especially for babies and their caregivers. Stories and music provide interaction for the babies and time for caregivers to talk and share with each other. Ages: birth to 18 months. Registration required. Registration will begin one week prior to program date.&nbsp\;
LOCATION:North Shelby Library
UID:e.145.7880
SEQUENCE:3
DTSTAMP:20260422T165732Z
URL:https://business.shelbychamber.org/events/details/baby-tales-10-06-2015-7880
END:VEVENT

END:VCALENDAR
