BEGIN:VCALENDAR
VERSION:2.0
PRODID:-//ChamberMaster//Event Calendar 2.0//EN
METHOD:PUBLISH
X-PUBLISHED-TTL:P3D
REFRESH-INTERVAL:P3D
CALSCALE:GREGORIAN
BEGIN:VEVENT
DTSTART:20150516T170000Z
DTEND:20150517T040000Z
X-MICROSOFT-CDO-ALLDAYEVENT:FALSE
SUMMARY:Bama's Boots Bands and Bikes at Venue 31
DESCRIPTION:Welcome to the first annual Bama's Boots Bands and Bikes Party Weekend benefiting the Boot Campaign. Get ready next May for a fun-filled weekend that will help returning warriors with their many needs. This weekend will be a lot of firsts. The first time an event for the Boot Campaign is held in Alabama. The first time Tommy Flanagan and Mark Boone Jr. from Sons of Anarchy visit our state. They will be appearing with other special guests to be named later. George Griffin and The Firebirds are appearing on the stage all weekend with other great local bands to be named as the time grows closer. With continuing music and entertainment\, good food and fun for everyone this is an event you do not want to miss.\n\n \nSaturday Fun Family Festival with Tommy and Mark\,Vendors\, Great Food\, Music and family fun Tickets available at\n\nhttps://www.eventbrite.com/e/bamas-boots-bands-and-bikes-saturday-festival-tickets-16179919575\n\nKeep checking back for Special Surprise Guests to be added
X-ALT-DESC;FMTTYPE=text/html:<span style="font-family:verdana">Welcome to the first annual Bama&rsquo\;s Boots Bands and Bikes Party Weekend benefiting the Boot Campaign. Get ready next May for a fun-filled weekend that will help returning warriors with their many needs. This weekend will be a lot of firsts. The first time an event for the Boot Campaign is held in Alabama. The first time Tommy Flanagan and Mark Boone Jr. from Sons of Anarchy visit our state. They will be appearing with other special guests to be named later. George Griffin and The Firebirds are appearing on the stage all weekend with other great local bands to be named as the time grows closer. With continuing music and entertainment\, good food and fun for everyone this is an event you do not want to miss.</span><br />\n&nbsp\;\n<p style="text-align:center"><span style="font-family:verdana">Saturday Fun Family Festival with Tommy and Mark\,Vendors\, Great Food\, Music and family fun Tickets available at</span></p>\n\n<p style="text-align:center"><span style="font-family:verdana"><a href="https://www.eventbrite.com/e/bamas-boots-bands-and-bikes-saturday-festival-tickets-16179919575">https://www.eventbrite.com/e/bamas-boots-bands-and-bikes-saturday-festival-tickets-16179919575</a></span></p>\n\n<p style="text-align:center"><span style="font-family:verdana">Keep checking back for Special Surprise Guests to be added</span></p>\n
LOCATION:Venue 31
UID:e.145.7622
SEQUENCE:3
DTSTAMP:20260423T003251Z
URL:https://business.shelbychamber.org/events/details/bama-s-boots-bands-and-bikes-at-venue-31-05-16-2015-7622
END:VEVENT

END:VCALENDAR
