BEGIN:VCALENDAR
VERSION:2.0
PRODID:-//ChamberMaster//Event Calendar 2.0//EN
METHOD:PUBLISH
X-PUBLISHED-TTL:P3D
REFRESH-INTERVAL:P3D
CALSCALE:GREGORIAN
BEGIN:VEVENT
DTSTART;VALUE=DATE:20150515
DTEND;VALUE=DATE:20150518
TRANSP:TRANSPARENT
X-MICROSOFT-CDO-ALLDAYEVENT:TRUE
SUMMARY:Barber Historics
DESCRIPTION:The first-annual Barber Historics is headed to Barber Motorsports Park\, to be held May 15-17\, featuring over 250 vintage race cars in action and on display! Car enthusiast or not\, this is an event you don't want to miss with activities such as parade laps\, a car corral\, camping\, hospitality options and more. Tickets start at only $20 and can be purchased online at barbermotorsports.com. All tickets include complimentary on-site parking and paddock garage access. Children 12 and under are admitted free with a ticketed adult. See you at the Park!
X-ALT-DESC;FMTTYPE=text/html:The first-annual Barber Historics is headed to Barber Motorsports Park\, to be held May 15-17\, featuring over 250 vintage race cars in action and on display! Car enthusiast or not\, this is an event you don&#39\;t want to miss with activities such as parade laps\, a car corral\, camping\, hospitality options and more. Tickets start at only $20 and can be purchased online at barbermotorsports.com. All tickets include complimentary on-site parking and paddock garage access. Children 12 and under are admitted free with a ticketed adult. See you at the Park!
LOCATION:Barber Motorsports Park 6030 Barber Motorsports Parkway Birmingham\, AL 35094
UID:e.145.7570
SEQUENCE:3
DTSTAMP:20260422T225931Z
URL:https://business.shelbychamber.org/events/details/barber-historics-05-15-2015-7570
END:VEVENT

END:VCALENDAR
