BEGIN:VCALENDAR
VERSION:2.0
PRODID:-//ChamberMaster//Event Calendar 2.0//EN
METHOD:PUBLISH
X-PUBLISHED-TTL:P3D
REFRESH-INTERVAL:P3D
CALSCALE:GREGORIAN
BEGIN:VEVENT
DTSTART;VALUE=DATE:20121012
DTEND;VALUE=DATE:20121015
TRANSP:TRANSPARENT
X-MICROSOFT-CDO-ALLDAYEVENT:TRUE
SUMMARY:Barber Vintage Festival presented by Triumph Dealers of North America
DESCRIPTION:The 8th Annual Barber Vintage Festival presented by Triumph Dealers of North America returns to Barber Motorsports Park on October 12 - 14\, 2012! Come on out to the beautiful Barber Motorsports Park to witness one of the world's largest motorcycle collections right in the heart of Birmingham. A few activities include roadracing\, motocross\, stunt shows\, air show\, swap meet and much more! Kids 12 & under are admitted FREE with a ticketed adult\, so purchase yours today!
X-ALT-DESC;FMTTYPE=text/html:<span style="font-size:12px\;">The 8th Annual Barber Vintage Festival presented by Triumph Dealers of North America returns to Barber Motorsports Park on October 12 - 14\, 2012! Come on out to the beautiful Barber Motorsports Park to witness one of the world&#39\;s largest motorcycle collections right in the heart of Birmingham. A few activities include roadracing\, motocross\, stunt shows\, air show\, swap meet and much more! Kids 12 &amp\; under are admitted FREE with a ticketed adult\, so purchase yours today!</span>
LOCATION:Barber Motorsports Park
UID:e.145.4264
SEQUENCE:3
DTSTAMP:20260424T233811Z
URL:https://business.shelbychamber.org/events/details/barber-vintage-festival-presented-by-triumph-dealers-of-north-america-10-12-2012-4264
END:VEVENT

END:VCALENDAR
