BEGIN:VCALENDAR
VERSION:2.0
PRODID:-//ChamberMaster//Event Calendar 2.0//EN
METHOD:PUBLISH
X-PUBLISHED-TTL:P3D
REFRESH-INTERVAL:P3D
CALSCALE:GREGORIAN
BEGIN:VEVENT
DTSTART:20150502T130000Z
DTEND:20150502T170000Z
X-MICROSOFT-CDO-ALLDAYEVENT:FALSE
SUMMARY:Barking Bargains & Meow Market Indoor Yard Sale Benefiting Shelby Humane Society
DESCRIPTION:On Saturday\, May 2nd\, from 8 am ? 12 noon\, the Best Friends of Shelby Humane Society is hosting Barking Bargains & Meow Market\, an indoor rummage sale at the Shelby County Exhibition Center. Admission is free to attend. It is cash only and all sales are final. Come early on Friday\, May 1st from 6 -8 pm for the first chance to purchase the best items. Friday night only will have a $10 admission fee at the door. Items are needed to sell! Please consider donating to our sale ? furniture\, household and office items\, gently used clothing and shoes\, toys\, antiques\, collectibles\, working electronics and appliance and books. Collection dates are Wednesday\, April 29th\, 10 am - 2 pm or 5 - 7 pm and Thursday\, April 30th\, 10 am - 2 pm or 5 - 7 pm. Drop off at the Shelby County Exhibition Center. Donation receipts available for your tax purposes. Shelby Humane Society's mission is to care for homeless\, abused\, neglected and abandoned animals and educate the community to instill an increased awareness and commitment to the responsibility of animal ownership and protection. Each year\, Shelby Humane Society cares for over 5\,000 homeless and lost pets. Questions? Email bestfriendsofshelbyhumane@gmail.com. Shelbyhumane.org
X-ALT-DESC;FMTTYPE=text/html:On Saturday\, May 2nd\, from 8 am ? 12 noon\, the Best Friends of Shelby Humane Society is hosting Barking Bargains &amp\; Meow Market\, an indoor rummage sale at the Shelby County Exhibition Center. Admission is free to attend. It is cash only and all sales are final. Come early on Friday\, May 1st from 6 -8 pm for the first chance to purchase the best items. Friday night only will have a $10 admission fee at the door. Items are needed to sell! Please consider donating to our sale ? furniture\, household and office items\, gently used clothing and shoes\, toys\, antiques\, collectibles\, working electronics and appliance and books. Collection dates are Wednesday\, April 29th\, 10 am - 2 pm or 5 - 7 pm and Thursday\, April 30th\, 10 am - 2 pm or 5 - 7 pm. Drop off at the Shelby County Exhibition Center. Donation receipts available for your tax purposes. Shelby Humane Society&#39\;s mission is to care for homeless\, abused\, neglected and abandoned animals and educate the community to instill an increased awareness and commitment to the responsibility of animal ownership and protection. Each year\, Shelby Humane Society cares for over 5\,000 homeless and lost pets. Questions? Email bestfriendsofshelbyhumane@gmail.com. Shelbyhumane.org
LOCATION:Shelby County Exhibition Center 86 Argo Road\, Columbiana\, AL 35051
UID:e.145.7636
SEQUENCE:3
DTSTAMP:20260422T231322Z
URL:https://business.shelbychamber.org/events/details/barking-bargains-meow-market-indoor-yard-sale-benefiting-shelby-humane-society-05-02-2015-7636
END:VEVENT

END:VCALENDAR
