BEGIN:VCALENDAR
VERSION:2.0
PRODID:-//ChamberMaster//Event Calendar 2.0//EN
METHOD:PUBLISH
X-PUBLISHED-TTL:P3D
REFRESH-INTERVAL:P3D
CALSCALE:GREGORIAN
BEGIN:VEVENT
DTSTART:20111027T123000Z
DTEND:20111027T203000Z
X-MICROSOFT-CDO-ALLDAYEVENT:FALSE
SUMMARY:BBJ Business Growth Expo
DESCRIPTION:Join us for Birmingham Business Journal's Business Growth Expo 2011- where hundreds of local executives and decision makers will come together to gain new insights and solutions for their business. With unique networking opportunities\, exhibition booths and keynote speakers\, this event will be the perfect place for you to do business.
X-ALT-DESC;FMTTYPE=text/html:<p class="big">\n	Join us for Birmingham Business Journal&rsquo\;s Business Growth Expo 2011- where hundreds of local executives and decision makers will come together to gain new insights and solutions for their business. With <span style="color: rgb(152\, 147\, 11)\;">unique networking opportunities</span>\, <i><a href="http://bbjgrowthexpo.com/exhibitors.php" target="_blank"><span style="color: rgb(152\, 147\, 11)\;">exhibition booths</span></a></i> and <i><a href="http://www.bbjgrowthexpo.com/speakers.php" style="color: rgb(152\, 147\, 11)\;">keynote speakers</a></i>\, this event will be the perfect place for you to do business.</p>\n
LOCATION:Cahaba Grand Conference Center 3660 Grandview Pkwy Birmingham\, AL 35243
UID:e.145.3462
SEQUENCE:3
DTSTAMP:20260425T183509Z
URL:https://business.shelbychamber.org/events/details/bbj-business-growth-expo-10-27-2011-3462
END:VEVENT

END:VCALENDAR
