BEGIN:VCALENDAR
VERSION:2.0
PRODID:-//ChamberMaster//Event Calendar 2.0//EN
METHOD:PUBLISH
X-PUBLISHED-TTL:P3D
REFRESH-INTERVAL:P3D
CALSCALE:GREGORIAN
BEGIN:VEVENT
DTSTART:20121101T133000Z
DTEND:20121101T170000Z
X-MICROSOFT-CDO-ALLDAYEVENT:FALSE
SUMMARY:BBJ Crash Course on Social Media
DESCRIPTION:Crash Course in Social Media 11/1/12\n\nRegister Now\n\nAdd to my calendar\n\n\n\nExpert panelists will discuss what you need to know to create\, implement\, and measure a successful social media presence for your business. Speakers include: Dr. Michelle Amaral\, Technology Chairperson for ALsocme\, Jeff Vreeland\, VP of Digital Strategy for Infomedia\, Chris Davis\, Director of Integrated Communications for fi-Plan Partners and Crawford Miller\, Digital Strategist for Centro.\n\n\n\nPresentations include:\n\n\n\n- The Psychology Behind Social Media\n\n- A New Type of Digital Strategy\n\n- Don't Copy Me\, Get your Own Strategy!\n\n- Using Social Media for Market Research\n\n\n\nTickets include the half-day course\, a one-year\, new subscription to the BBJ\, 2013 Book of Lists and breakfast.\n\n\n\nIn Partnership with Alabama Social Media Association\n\n\n\nFor more info\, contact Ginger Gardner Aarons at 205-443-5616 or gaarons@bizjournals.com\n\n\n\nWhen:\n\n\n\nThursday\, November 1\, 2012\, 8:30am-12:00pm\n\nWhere:\n\n\n\nHarbert Center\n\n2019 4th Avenue North\n\nBirmingham\, AL 35203\n\n\n\n\n\nTo register\, contact Anne Senft at asenft@bizjournals.com\, or click the link: http://www.bizjournals.com/birmingham/event/74461
X-ALT-DESC;FMTTYPE=text/html:<br />\nCrash Course in Social Media 11/1/12<br />\nRegister Now<br />\nAdd to my calendar<br />\n<br />\nExpert panelists will discuss what you need to know to create\, implement\, and measure a successful social media presence for your business. Speakers include: Dr. Michelle Amaral\, Technology Chairperson for ALsocme\, Jeff Vreeland\, VP of Digital Strategy for Infomedia\, Chris Davis\, Director of Integrated Communications for fi-Plan Partners and Crawford Miller\, Digital Strategist for Centro.<br />\n<br />\nPresentations include:<br />\n<br />\n- The Psychology Behind Social Media<br />\n- A New Type of Digital Strategy<br />\n- Don&#39\;t Copy Me\, Get your Own Strategy!<br />\n- Using Social Media for Market Research<br />\n<br />\nTickets include the half-day course\, a one-year\, new subscription to the BBJ\, 2013 Book of Lists and breakfast.<br />\n<br />\nIn Partnership with Alabama Social Media Association<br />\n<br />\nFor more info\, contact Ginger Gardner Aarons at 205-443-5616 or gaarons@bizjournals.com<br />\n<br />\nWhen:<br />\n<br />\nThursday\, November 1\, 2012\, 8:30am-12:00pm<br />\nWhere:<br />\n<br />\nHarbert Center<br />\n2019 4th Avenue North<br />\nBirmingham\, AL 35203<br />\n<br />\n<br />\nTo register\, contact Anne Senft at asenft@bizjournals.com\, or click the link: http://www.bizjournals.com/birmingham/event/74461<br />\n<br />\n<br />\n
LOCATION:Harbert Center 2019 4th Ave N Birmingham\, AL 35203
UID:e.145.4405
SEQUENCE:3
DTSTAMP:20260424T215711Z
URL:https://business.shelbychamber.org/events/details/bbj-crash-course-on-social-media-11-01-2012-4405
END:VEVENT

END:VCALENDAR
