BEGIN:VCALENDAR
VERSION:2.0
PRODID:-//ChamberMaster//Event Calendar 2.0//EN
METHOD:PUBLISH
X-PUBLISHED-TTL:P3D
REFRESH-INTERVAL:P3D
CALSCALE:GREGORIAN
BEGIN:VEVENT
DTSTART:20111006T121500Z
DTEND:20111006T140000Z
X-MICROSOFT-CDO-ALLDAYEVENT:FALSE
SUMMARY:BBJ Green Panel Breakfast
DESCRIPTION:Join us for our Green Panel Breakfast at the Harbert Center! Where a panel of local companies will discuss how Birmingham is moving along in the effort to "Go Green."
X-ALT-DESC;FMTTYPE=text/html:Join us for our Green Panel Breakfast at the Harbert Center! Where a panel of local companies will discuss how Birmingham is moving along in the effort to &quot\;Go Green.&quot\;
LOCATION:Harbert Center 2019 4th Ave N # 100 Birmingham\, AL 35203-3360
UID:e.145.3461
SEQUENCE:3
DTSTAMP:20260425T182951Z
URL:https://business.shelbychamber.org/events/details/bbj-green-panel-breakfast-10-06-2011-3461
END:VEVENT

END:VCALENDAR
