BEGIN:VCALENDAR
VERSION:2.0
PRODID:-//ChamberMaster//Event Calendar 2.0//EN
METHOD:PUBLISH
X-PUBLISHED-TTL:P3D
REFRESH-INTERVAL:P3D
CALSCALE:GREGORIAN
BEGIN:VEVENT
DTSTART:20110714T121500Z
DTEND:20110714T140000Z
X-MICROSOFT-CDO-ALLDAYEVENT:FALSE
SUMMARY:BBJ Health Care Reform Panel Breakfast
DESCRIPTION:The Birmingham Business Journal will hold a blue-ribbon panel of top local experts who will discuss how federal health care reform will affect YOUR business.
X-ALT-DESC;FMTTYPE=text/html:The Birmingham Business Journal will hold a blue-ribbon panel of top local experts who will discuss how federal health care reform will affect YOUR business.\n<div style="overflow: hidden\; color: rgb(0\, 0\, 0)\; background-color: transparent\; text-align: left\; text-decoration: none\; border: medium none\;">\n	<br />\n	&nbsp\;</div>\n
LOCATION:The Harbert Center 2019 4th Ave N # 100 Birmingham\, AL 35203-3360
UID:e.145.3458
SEQUENCE:3
DTSTAMP:20260426T005512Z
URL:https://business.shelbychamber.org/events/details/bbj-health-care-reform-panel-breakfast-07-14-2011-3458
END:VEVENT

END:VCALENDAR
