BEGIN:VCALENDAR
VERSION:2.0
PRODID:-//ChamberMaster//Event Calendar 2.0//EN
METHOD:PUBLISH
X-PUBLISHED-TTL:P3D
REFRESH-INTERVAL:P3D
CALSCALE:GREGORIAN
BEGIN:VEVENT
DTSTART:20111110T170000Z
DTEND:20111110T190000Z
X-MICROSOFT-CDO-ALLDAYEVENT:FALSE
SUMMARY:BBJ Healthiest Employeers Luncheon
DESCRIPTION:Join the BBJ on November 10 to honor Birmingham's Healthiest Employers. Don't miss the opportunity to hear the top notch keynote speaker.
X-ALT-DESC;FMTTYPE=text/html:Join the BBJ on November 10 to honor Birmingham&#39\;s Healthiest Employers. Don&#39\;t miss the opportunity to hear the top notch keynote speaker.\n<div style="overflow: hidden\; color: rgb(0\, 0\, 0)\; background-color: transparent\; text-align: left\; text-decoration: none\; border: medium none\;">\n	<br />\n	&nbsp\;</div>\n
LOCATION:Harbert Center 2019 4th Ave N # 100 Birmingham\, AL 35203-3360
UID:e.145.3463
SEQUENCE:3
DTSTAMP:20260425T183310Z
URL:https://business.shelbychamber.org/events/details/bbj-healthiest-employeers-luncheon-11-10-2011-3463
END:VEVENT

END:VCALENDAR
