BEGIN:VCALENDAR
VERSION:2.0
PRODID:-//ChamberMaster//Event Calendar 2.0//EN
METHOD:PUBLISH
X-PUBLISHED-TTL:P3D
REFRESH-INTERVAL:P3D
CALSCALE:GREGORIAN
BEGIN:VEVENT
DTSTART:20110728T133000Z
DTEND:20110728T143000Z
X-MICROSOFT-CDO-ALLDAYEVENT:FALSE
SUMMARY:BBJ Smart Reader Seminar
DESCRIPTION:The Birmingham Business Journal will help teach you how to grow your business with tips on understanding the paper and getting the most information for your business.
X-ALT-DESC;FMTTYPE=text/html:The Birmingham Business Journal will help teach you how to grow your business with tips on understanding the paper and getting the most information for your business. 
LOCATION:Birmingham Business Journal 2140 11th Ave South Suite 205 Birmingham\, AL 35205
UID:e.145.3457
SEQUENCE:3
DTSTAMP:20260425T231931Z
URL:https://business.shelbychamber.org/events/details/bbj-smart-reader-seminar-07-28-2011-3457
END:VEVENT

END:VCALENDAR
