BEGIN:VCALENDAR
VERSION:2.0
PRODID:-//ChamberMaster//Event Calendar 2.0//EN
METHOD:PUBLISH
X-PUBLISHED-TTL:P3D
REFRESH-INTERVAL:P3D
CALSCALE:GREGORIAN
BEGIN:VEVENT
DTSTART:20110920T160000Z
DTEND:20110920T180000Z
X-MICROSOFT-CDO-ALLDAYEVENT:FALSE
SUMMARY:BBJ Top HR Executive Luncheon
DESCRIPTION:This event will honor the talented and innovative human resource directors and executives who are helping Birmingham companies create great workplace environments for their employees
X-ALT-DESC;FMTTYPE=text/html:This event will honor the talented and innovative human resource directors and executives who are helping Birmingham companies create great workplace environments for their employees
LOCATION:Rosewood Hall\, SOHO 2850 19th Street S. Homewood\, AL 35209
UID:e.145.3460
SEQUENCE:3
DTSTAMP:20260425T212744Z
URL:https://business.shelbychamber.org/events/details/bbj-top-hr-executive-luncheon-09-20-2011-3460
END:VEVENT

END:VCALENDAR
