BEGIN:VCALENDAR
VERSION:2.0
PRODID:-//ChamberMaster//Event Calendar 2.0//EN
METHOD:PUBLISH
X-PUBLISHED-TTL:P3D
REFRESH-INTERVAL:P3D
CALSCALE:GREGORIAN
BEGIN:VEVENT
DTSTART:20140517T160000Z
DTEND:20140517T230000Z
X-MICROSOFT-CDO-ALLDAYEVENT:FALSE
SUMMARY:BBQ Blitz Cook-Off
DESCRIPTION:BBQ BLITZ COOK-OFF is a fundraising event on May 17 from 11 a.m.-6 p.m. benefitting the Calera Middle School football program. The Event will be held at Calera Middle School. Tickets cost is: $12 pre-sale and $15 at the gate. Funds raised will go toward improving CMS facilities and purchasing new equipment. The event will host the first annual barbecue competition\, silent auction\, live music\, kids area\, vendors and spring scrimmage game. Visit Bbqblitzcook-off.com for info or to learn how to compete\, donate to the silent auction or become a sponsor or vendor.
X-ALT-DESC;FMTTYPE=text/html:BBQ BLITZ COOK-OFF is a fundraising event on May 17 from 11 a.m.-6 p.m. benefitting the Calera Middle School football program. The Event will be held at Calera Middle School. Tickets cost is: $12 pre-sale and $15 at the gate. Funds raised will go toward improving CMS facilities and purchasing new equipment. The event will host the first annual barbecue competition\, silent auction\, live music\, kids area\, vendors and spring scrimmage game. Visit Bbqblitzcook-off.com for info or to learn how to compete\, donate to the silent auction or become a sponsor or vendor.
LOCATION:Calera Middle School
UID:e.145.5330
SEQUENCE:3
DTSTAMP:20260423T165002Z
URL:https://business.shelbychamber.org/events/details/bbq-blitz-cook-off-05-17-2014-5330
END:VEVENT

END:VCALENDAR
