BEGIN:VCALENDAR
VERSION:2.0
PRODID:-//ChamberMaster//Event Calendar 2.0//EN
METHOD:PUBLISH
X-PUBLISHED-TTL:P3D
REFRESH-INTERVAL:P3D
CALSCALE:GREGORIAN
BEGIN:VEVENT
DTSTART:20131124T000000Z
DTEND:20131124T030000Z
X-MICROSOFT-CDO-ALLDAYEVENT:FALSE
SUMMARY:BBQ\, Brews and Blues at the Shelby County Arts Council
DESCRIPTION:BBQ\, Brews and Blues Saturday\, November 23\, 2013 6:00pm - BBQ and craft beer Tasting begin the evening. At 7:00pm\, the award winning band\, 2Blu and the Lucky Stiffs\, take the stage. Order you tickets online at www.shelbycountyartscouncil.com. Ticket price: $22-Full event\; $15-Concert Only. When you buy a ticket for an SCAC Performance\, you not only enjoy a quality show \, you help support our work and our mission!
X-ALT-DESC;FMTTYPE=text/html:BBQ\, Brews and Blues Saturday\, November 23\, 2013 6:00pm - BBQ and craft beer Tasting begin the evening. At 7:00pm\, the award winning band\, 2Blu and the Lucky Stiffs\, take the stage. Order you tickets online at www.shelbycountyartscouncil.com. Ticket price: $22-Full event\; $15-Concert Only. When you buy a ticket for an SCAC Performance\, you not only enjoy a quality show \, you help support our work and our mission! 
LOCATION:Shelby County Arts Council\, 104 Mildred Street\, Columibana\, AL 35051 205 669 0044
UID:e.145.4908
SEQUENCE:3
DTSTAMP:20260424T033813Z
URL:https://business.shelbychamber.org/events/details/bbq-brews-and-blues-at-the-shelby-county-arts-council-11-23-2013-4908
END:VEVENT

END:VCALENDAR
