BEGIN:VCALENDAR
VERSION:2.0
PRODID:-//ChamberMaster//Event Calendar 2.0//EN
METHOD:PUBLISH
X-PUBLISHED-TTL:P3D
REFRESH-INTERVAL:P3D
CALSCALE:GREGORIAN
BEGIN:VEVENT
DTSTART;VALUE=DATE:20130916
DTEND;VALUE=DATE:20131201
TRANSP:TRANSPARENT
X-MICROSOFT-CDO-ALLDAYEVENT:TRUE
SUMMARY:Be Free to See with LASIK Eye Surgery
DESCRIPTION:We want you to be able to experience the football season with clarity.  Receive up to $100/post on our Facebook page when you post a photo of YOU in your favorite team colors.  Include #BFree2C and why you want LASIK eye surgery from Alabama Vision Center.\n\n\n\nMust have consultation and schedule the surgery by November 30\, 2013.  Offer not to be combined with other discount programs.  We accept most insurances\, including VSP.
X-ALT-DESC;FMTTYPE=text/html:We want you to be able to experience the football season with clarity.&nbsp\; Receive up to $100/post on our Facebook page when you post a photo of YOU in your favorite team colors.&nbsp\; Include #BFree2C and why you want LASIK eye surgery from Alabama Vision Center.<br />\n<br />\nMust have consultation and schedule the surgery by November 30\, 2013.&nbsp\; Offer not to be combined with other discount programs.&nbsp\; We accept most insurances\, including VSP.
LOCATION:Alabama Vision Center\, 790 Montclair Road\, Suite 100\, Birmingham\, AL 35213 https://www.facebook.com/Lasik.Cataract.AlabamaVisionCenter?ref=hl
UID:e.145.4727
SEQUENCE:3
DTSTAMP:20260424T033801Z
URL:https://business.shelbychamber.org/events/details/be-free-to-see-with-lasik-eye-surgery-09-16-2013-4727
END:VEVENT

END:VCALENDAR
