BEGIN:VCALENDAR
VERSION:2.0
PRODID:-//ChamberMaster//Event Calendar 2.0//EN
METHOD:PUBLISH
X-PUBLISHED-TTL:P3D
REFRESH-INTERVAL:P3D
CALSCALE:GREGORIAN
BEGIN:VEVENT
DTSTART;VALUE=DATE:20110306
DTEND;VALUE=DATE:20111001
TRANSP:TRANSPARENT
X-MICROSOFT-CDO-ALLDAYEVENT:TRUE
SUMMARY:Be Healthy ! Be Happy ! Family Health Initiative - March thru September 2011
DESCRIPTION:Be Healthy ! Be Happy !  Family Health Initiative   March thru September 2011\n\n\n\nClick here for printable PDF detailed flier.\n\n\n\nCoordinator:   The Health Committee of the Shelby County Children's Council  \n\n\n\nContact:  Maureen Alexander   SC Child Nutrition Program Coordinator at (682-6531) or Sandra McKim   Meal Benefits Processor -SC Child Nutrition Program at (682-6532)\n\n\n\nProgram's Mission:  To create and implement a family oriented program promoting all-around family wellness through physical activity and nutrition education to fight obesity\, prevent disease and improve the family's quality of life. This six month program will be entirely free of cost to qualifying families.\n\n\n\nSpecific Needs:  "Incentive Items"\n\n\n\n1) Gift Cards for printing and binding (to be used for constructing healthy cookbooks and meal prep materials)  \n\n\n\n2) Gift Card Incentives for monthly prizes (incentive for reaching weekly and monthly goals)\n\n\n\n3) 10 Larger Incentive Items to get moving / exercise   Wii System/Wii Fit Game (only for families who complete the program ) ** I created a wish list at Best Buy and Wal-Mart for the 10 -Wii System/Wii Fit Games under Sandra McKim \, this " Wish List " will also allow for Gift Card purchases (donations).\n\n\n\n4) Screening Item: Glucometer/strips/lancets\, etc.   (weekly) glucose screening for "at risk"\n\n\n\nSandra McKim\n\nCNP Meal Benefits Processor/Catering Manager\n\nShelby County Schools\n\nph: 205.682.6532\n\nfx: 205.682.6526
X-ALT-DESC;FMTTYPE=text/html:<strong>Be Healthy ! Be Happy !&nbsp\; Family Health Initiative &ndash\; March thru September 2011</strong><br />\n<br />\n<a href="http://cloud.chambermaster.com/userfiles/UserFiles/chambers/145/File/Community%20Events/Family%20Health%20Initiative.pdf">Click here for printable PDF detailed flier.</a><br />\n<br />\nCoordinator:&nbsp\;&nbsp\; The Health Committee of the Shelby County Children&rsquo\;s Council &nbsp\;<br />\n<br />\nContact:&nbsp\; Maureen Alexander &ndash\; SC Child Nutrition Program Coordinator at (682-6531) or Sandra McKim &ndash\; Meal Benefits Processor -SC Child Nutrition Program at (682-6532)<br />\n<br />\nProgram&rsquo\;s Mission:&nbsp\; To create and implement a family oriented program promoting all-around family wellness through physical activity and nutrition education to fight obesity\, prevent disease and improve the family&rsquo\;s quality of life. This six month program will be entirely free of cost to qualifying families.<br />\n<br />\nSpecific Needs:&nbsp\; &ldquo\;Incentive Items&rdquo\;<br />\n<br />\n1) Gift Cards for printing and binding (to be used for constructing healthy cookbooks and meal prep materials) &nbsp\;<br />\n<br />\n2) Gift Card Incentives for monthly prizes (incentive for reaching weekly and monthly goals)<br />\n<br />\n3) 10 Larger Incentive Items to get moving / exercise &ndash\; Wii System/Wii Fit Game (only for families who complete the program ) ** I created a wish list at Best Buy and Wal-Mart for the 10 -Wii System/Wii Fit Games under Sandra McKim \, this &ldquo\; Wish List &ldquo\; will also allow for Gift Card purchases (donations).<br />\n<br />\n4) Screening Item: Glucometer/strips/lancets\, etc. &ndash\; (weekly) glucose screening for &ldquo\;at risk&rdquo\;<br />\n<br />\nSandra McKim<br />\nCNP Meal Benefits Processor/Catering Manager<br />\nShelby County Schools<br />\nph: 205.682.6532<br />\nfx: 205.682.6526
LOCATION:Coordinator: The Health Committee of the Shelby County Children's Council Contact: Maureen Alexander SC Child Nutrition Program Coordinator at (682-6531) or Sandra McKim Meal Benefits Processor -SC Child Nutrition Program at (682-6532)
UID:e.145.3245
SEQUENCE:3
DTSTAMP:20260425T201209Z
URL:https://business.shelbychamber.org/events/details/be-healthy-be-happy-family-health-initiative-march-thru-september-2011-03-06-2011-3245
END:VEVENT

END:VCALENDAR
